BEGIN:VCALENDAR
VERSION:2.0
PRODID:-//CHSV - ECPv6.15.20//NONSGML v1.0//EN
CALSCALE:GREGORIAN
METHOD:PUBLISH
X-ORIGINAL-URL:https://chesterfieldhistoricalsociety.com
X-WR-CALDESC:Events for CHSV
REFRESH-INTERVAL;VALUE=DURATION:PT1H
X-Robots-Tag:noindex
X-PUBLISHED-TTL:PT1H
BEGIN:VTIMEZONE
TZID:America/New_York
BEGIN:DAYLIGHT
TZOFFSETFROM:-0500
TZOFFSETTO:-0400
TZNAME:EDT
DTSTART:20240310T070000
END:DAYLIGHT
BEGIN:STANDARD
TZOFFSETFROM:-0400
TZOFFSETTO:-0500
TZNAME:EST
DTSTART:20241103T060000
END:STANDARD
BEGIN:DAYLIGHT
TZOFFSETFROM:-0500
TZOFFSETTO:-0400
TZNAME:EDT
DTSTART:20250309T070000
END:DAYLIGHT
BEGIN:STANDARD
TZOFFSETFROM:-0400
TZOFFSETTO:-0500
TZNAME:EST
DTSTART:20251102T060000
END:STANDARD
BEGIN:DAYLIGHT
TZOFFSETFROM:-0500
TZOFFSETTO:-0400
TZNAME:EDT
DTSTART:20260308T070000
END:DAYLIGHT
BEGIN:STANDARD
TZOFFSETFROM:-0400
TZOFFSETTO:-0500
TZNAME:EST
DTSTART:20261101T060000
END:STANDARD
END:VTIMEZONE
BEGIN:VEVENT
DTSTART;TZID=America/New_York:20250114T070000
DTEND;TZID=America/New_York:20250114T080000
DTSTAMP:20260423T140230
CREATED:20250113T010710Z
LAST-MODIFIED:20250113T010710Z
UID:680-1736838000-1736841600@chesterfieldhistoricalsociety.com
SUMMARY:Lunchtime Lecture Series - Architecture of Courthouse Green
DESCRIPTION:During this presentation discover the architecture of the historic structures on the Courthouse Green. Uncover the details surrounding Classic Italianate\, Greek Revival\, and Colonial Revival style. Discover the details behind these magnificent structures. \nRegister HERE
URL:https://chesterfieldhistoricalsociety.com/event/lunchtime-lecture-series-architecture-of-courthouse-green/
LOCATION:Castlewood Plantation\, 10201 Ironbridge Road\, Chesterfield\, VA\, 23832\, United States
END:VEVENT
END:VCALENDAR