BEGIN:VCALENDAR
VERSION:2.0
PRODID:-//CHSV - ECPv6.15.20//NONSGML v1.0//EN
CALSCALE:GREGORIAN
METHOD:PUBLISH
X-WR-CALNAME:CHSV
X-ORIGINAL-URL:https://chesterfieldhistoricalsociety.com
X-WR-CALDESC:Events for CHSV
REFRESH-INTERVAL;VALUE=DURATION:PT1H
X-Robots-Tag:noindex
X-PUBLISHED-TTL:PT1H
BEGIN:VTIMEZONE
TZID:America/New_York
BEGIN:DAYLIGHT
TZOFFSETFROM:-0500
TZOFFSETTO:-0400
TZNAME:EDT
DTSTART:20240310T070000
END:DAYLIGHT
BEGIN:STANDARD
TZOFFSETFROM:-0400
TZOFFSETTO:-0500
TZNAME:EST
DTSTART:20241103T060000
END:STANDARD
BEGIN:DAYLIGHT
TZOFFSETFROM:-0500
TZOFFSETTO:-0400
TZNAME:EDT
DTSTART:20250309T070000
END:DAYLIGHT
BEGIN:STANDARD
TZOFFSETFROM:-0400
TZOFFSETTO:-0500
TZNAME:EST
DTSTART:20251102T060000
END:STANDARD
BEGIN:DAYLIGHT
TZOFFSETFROM:-0500
TZOFFSETTO:-0400
TZNAME:EDT
DTSTART:20260308T070000
END:DAYLIGHT
BEGIN:STANDARD
TZOFFSETFROM:-0400
TZOFFSETTO:-0500
TZNAME:EST
DTSTART:20261101T060000
END:STANDARD
END:VTIMEZONE
BEGIN:VEVENT
DTSTART;TZID=America/New_York:20250124T180000
DTEND;TZID=America/New_York:20250124T200000
DTSTAMP:20260423T154840
CREATED:20250106T233146Z
LAST-MODIFIED:20250106T233534Z
UID:527-1737741600-1737748800@chesterfieldhistoricalsociety.com
SUMMARY:The Yorktown Campaign (also known as the Virginia Campaign)
DESCRIPTION:Robert M. (Bert) Dunkerly\nAuthor and Park Ranger Richmond National Battlefield \nAs we prepare to celebrate the 250th anniversary of the American Revolution\, Mr. Dunkerly will share how Chesterfield is connected to this historic and pivotal military event. \nAdmission is free for Historical Society members and $5 for non-members. Contact information: \nEmail: admin@chesterfieldhistory.com \nPhone: (804) 796-7121
URL:https://chesterfieldhistoricalsociety.com/event/the-yorktown-campaign-also-known-as-the-virginia-campaign/
LOCATION:Beulah Recreation Center\, 6901 Hopkins Road\, Chesterfield\, VA\, 23234\, United States
END:VEVENT
END:VCALENDAR