BEGIN:VCALENDAR
VERSION:2.0
PRODID:-//CHSV - ECPv6.15.20//NONSGML v1.0//EN
CALSCALE:GREGORIAN
METHOD:PUBLISH
X-ORIGINAL-URL:https://chesterfieldhistoricalsociety.com
X-WR-CALDESC:Events for CHSV
REFRESH-INTERVAL;VALUE=DURATION:PT1H
X-Robots-Tag:noindex
X-PUBLISHED-TTL:PT1H
BEGIN:VTIMEZONE
TZID:America/New_York
BEGIN:DAYLIGHT
TZOFFSETFROM:-0500
TZOFFSETTO:-0400
TZNAME:EDT
DTSTART:20240310T070000
END:DAYLIGHT
BEGIN:STANDARD
TZOFFSETFROM:-0400
TZOFFSETTO:-0500
TZNAME:EST
DTSTART:20241103T060000
END:STANDARD
BEGIN:DAYLIGHT
TZOFFSETFROM:-0500
TZOFFSETTO:-0400
TZNAME:EDT
DTSTART:20250309T070000
END:DAYLIGHT
BEGIN:STANDARD
TZOFFSETFROM:-0400
TZOFFSETTO:-0500
TZNAME:EST
DTSTART:20251102T060000
END:STANDARD
BEGIN:DAYLIGHT
TZOFFSETFROM:-0500
TZOFFSETTO:-0400
TZNAME:EDT
DTSTART:20260308T070000
END:DAYLIGHT
BEGIN:STANDARD
TZOFFSETFROM:-0400
TZOFFSETTO:-0500
TZNAME:EST
DTSTART:20261101T060000
END:STANDARD
END:VTIMEZONE
BEGIN:VEVENT
DTSTART;TZID=America/New_York:20250503T100000
DTEND;TZID=America/New_York:20250503T140000
DTSTAMP:20260423T070641
CREATED:20250328T151450Z
LAST-MODIFIED:20250328T155943Z
UID:910-1746266400-1746280800@chesterfieldhistoricalsociety.com
SUMMARY:Historic Point of Rocks Park Craft and Plant sale
DESCRIPTION:The Chesterfield Historical Society of Virginia presents: the Craft and Plant sale benefiting Historic Pointe of Rocks Park! On the grounds of Historic Castlewood. Rain or shine! Come browse local artisans wares! \nInterested Vendors\, the deadline for applications is on Friday\, April 25th. Please contact Ruth Snead if you are interested and to fill out the application form. Spots are 10×10 with tents and tables provided. \nTo reserve space: \nApplications must be received prior to April 25\, 2025\nSubmit check payable to Chesterfield Historical Society of VA \nAttention: Craft Sale HPOR- May 3\, 2025\nMail to- Ruth Snead\, Chesterfield Historical Society of VA\,\n10111 Iron Bridge Road\, Chesterfield\, Va. 23832\nContact -Ruth Snead\, ruthsnead@aol.com or 804-350-0156
URL:https://chesterfieldhistoricalsociety.com/event/craft-and-plant-sale/
LOCATION:Castlewood Plantation\, 10201 Ironbridge Road\, Chesterfield\, VA\, 23832\, United States
CATEGORIES:Fundraiser
END:VEVENT
END:VCALENDAR