BEGIN:VCALENDAR
VERSION:2.0
PRODID:-//CHSV - ECPv6.15.20//NONSGML v1.0//EN
CALSCALE:GREGORIAN
METHOD:PUBLISH
X-ORIGINAL-URL:https://chesterfieldhistoricalsociety.com
X-WR-CALDESC:Events for CHSV
REFRESH-INTERVAL;VALUE=DURATION:PT1H
X-Robots-Tag:noindex
X-PUBLISHED-TTL:PT1H
BEGIN:VTIMEZONE
TZID:America/New_York
BEGIN:DAYLIGHT
TZOFFSETFROM:-0500
TZOFFSETTO:-0400
TZNAME:EDT
DTSTART:20240310T070000
END:DAYLIGHT
BEGIN:STANDARD
TZOFFSETFROM:-0400
TZOFFSETTO:-0500
TZNAME:EST
DTSTART:20241103T060000
END:STANDARD
BEGIN:DAYLIGHT
TZOFFSETFROM:-0500
TZOFFSETTO:-0400
TZNAME:EDT
DTSTART:20250309T070000
END:DAYLIGHT
BEGIN:STANDARD
TZOFFSETFROM:-0400
TZOFFSETTO:-0500
TZNAME:EST
DTSTART:20251102T060000
END:STANDARD
BEGIN:DAYLIGHT
TZOFFSETFROM:-0500
TZOFFSETTO:-0400
TZNAME:EDT
DTSTART:20260308T070000
END:DAYLIGHT
BEGIN:STANDARD
TZOFFSETFROM:-0400
TZOFFSETTO:-0500
TZNAME:EST
DTSTART:20261101T060000
END:STANDARD
END:VTIMEZONE
BEGIN:VEVENT
DTSTART;TZID=America/New_York:20250607T120000
DTEND;TZID=America/New_York:20250607T130000
DTSTAMP:20260423T052412
CREATED:20250512T200151Z
LAST-MODIFIED:20250512T200151Z
UID:1048-1749297600-1749301200@chesterfieldhistoricalsociety.com
SUMMARY:The History of the American Flag
DESCRIPTION:Flag Day is celebrated on June 14\, and yet how many Americans know the evolutionary story of the present-day representation of the flag? This PowerPoint presentation by Martha Atkinson will fill in some of the history and participants will be given the opportunity to design and create a flag of their own. Please register one week in advance.
URL:https://chesterfieldhistoricalsociety.com/event/the-history-of-the-american-flag/
LOCATION:Magnolia Grange House Museum\, 10020 Iron Bridge Rd\, Chesterfield\, VA\, 23832\, United States
CATEGORIES:Saturday Lectures
END:VEVENT
END:VCALENDAR