BEGIN:VCALENDAR
VERSION:2.0
PRODID:-//CHSV - ECPv6.15.20//NONSGML v1.0//EN
CALSCALE:GREGORIAN
METHOD:PUBLISH
X-WR-CALNAME:CHSV
X-ORIGINAL-URL:https://chesterfieldhistoricalsociety.com
X-WR-CALDESC:Events for CHSV
REFRESH-INTERVAL;VALUE=DURATION:PT1H
X-Robots-Tag:noindex
X-PUBLISHED-TTL:PT1H
BEGIN:VTIMEZONE
TZID:America/New_York
BEGIN:DAYLIGHT
TZOFFSETFROM:-0500
TZOFFSETTO:-0400
TZNAME:EDT
DTSTART:20240310T070000
END:DAYLIGHT
BEGIN:STANDARD
TZOFFSETFROM:-0400
TZOFFSETTO:-0500
TZNAME:EST
DTSTART:20241103T060000
END:STANDARD
BEGIN:DAYLIGHT
TZOFFSETFROM:-0500
TZOFFSETTO:-0400
TZNAME:EDT
DTSTART:20250309T070000
END:DAYLIGHT
BEGIN:STANDARD
TZOFFSETFROM:-0400
TZOFFSETTO:-0500
TZNAME:EST
DTSTART:20251102T060000
END:STANDARD
BEGIN:DAYLIGHT
TZOFFSETFROM:-0500
TZOFFSETTO:-0400
TZNAME:EDT
DTSTART:20260308T070000
END:DAYLIGHT
BEGIN:STANDARD
TZOFFSETFROM:-0400
TZOFFSETTO:-0500
TZNAME:EST
DTSTART:20261101T060000
END:STANDARD
END:VTIMEZONE
BEGIN:VEVENT
DTSTART;TZID=America/New_York:20250628T110000
DTEND;TZID=America/New_York:20250628T120000
DTSTAMP:20260423T052315
CREATED:20250512T201842Z
LAST-MODIFIED:20250512T201842Z
UID:1062-1751108400-1751112000@chesterfieldhistoricalsociety.com
SUMMARY:Lord Chesterfield: Our County's Namesake
DESCRIPTION:During this insightful presentation discover the life and legacy of the Right and Honorable Philip Dormer Stanhope\, 4th Earl of Chesterfield\, portrayed by historical interpreter Mr. George Borden. \nLord Chesterfield was designated with the honor of Knight of the Garter\, a member of the Privy Council\, and noted 18th century British aristocrat\, statesman\, diplomat\, and a man of letters. In May 1749\, the newly created Chesterfield County in the colony of Virginia was named in his honor.
URL:https://chesterfieldhistoricalsociety.com/event/lord-chesterfield-our-countys-namesake/
LOCATION:Chesterfield Museum – Lobby\, 6813 Mimms Loop\, Chesterfield\, VA\, 23832\, United States
CATEGORIES:Saturday Lectures
END:VEVENT
END:VCALENDAR