BEGIN:VCALENDAR
VERSION:2.0
PRODID:-//CHSV - ECPv6.15.20//NONSGML v1.0//EN
CALSCALE:GREGORIAN
METHOD:PUBLISH
X-ORIGINAL-URL:https://chesterfieldhistoricalsociety.com
X-WR-CALDESC:Events for CHSV
REFRESH-INTERVAL;VALUE=DURATION:PT1H
X-Robots-Tag:noindex
X-PUBLISHED-TTL:PT1H
BEGIN:VTIMEZONE
TZID:America/New_York
BEGIN:DAYLIGHT
TZOFFSETFROM:-0500
TZOFFSETTO:-0400
TZNAME:EDT
DTSTART:20240310T070000
END:DAYLIGHT
BEGIN:STANDARD
TZOFFSETFROM:-0400
TZOFFSETTO:-0500
TZNAME:EST
DTSTART:20241103T060000
END:STANDARD
BEGIN:DAYLIGHT
TZOFFSETFROM:-0500
TZOFFSETTO:-0400
TZNAME:EDT
DTSTART:20250309T070000
END:DAYLIGHT
BEGIN:STANDARD
TZOFFSETFROM:-0400
TZOFFSETTO:-0500
TZNAME:EST
DTSTART:20251102T060000
END:STANDARD
BEGIN:DAYLIGHT
TZOFFSETFROM:-0500
TZOFFSETTO:-0400
TZNAME:EDT
DTSTART:20260308T070000
END:DAYLIGHT
BEGIN:STANDARD
TZOFFSETFROM:-0400
TZOFFSETTO:-0500
TZNAME:EST
DTSTART:20261101T060000
END:STANDARD
END:VTIMEZONE
BEGIN:VEVENT
DTSTART;TZID=America/New_York:20250705T120000
DTEND;TZID=America/New_York:20250705T130000
DTSTAMP:20260423T033954
CREATED:20250512T200555Z
LAST-MODIFIED:20250512T200555Z
UID:1052-1751716800-1751720400@chesterfieldhistoricalsociety.com
SUMMARY:Thomas Jefferson and the Declaration of Independence
DESCRIPTION:Thomas Jefferson is often referred to as “the pen of the Revolution” for writing the Declaration of Independence. Of all his accomplishments\, most Americans today associate Jefferson first and foremost as the author of our nation’s founding document. However\, at the time\, Jefferson himself was displeased with the final draft of the Declaration that the Continental Congress approved and distanced himself from his own work. Historical interpreter Marc Holma will portray Mr. Jefferson and will discuss the authorship of the Declaration of Independence and how it came about.
URL:https://chesterfieldhistoricalsociety.com/event/thomas-jefferson-and-the-declaration-of-independence/
CATEGORIES:Saturday Lectures
END:VEVENT
END:VCALENDAR