BEGIN:VCALENDAR
VERSION:2.0
PRODID:-//CHSV - ECPv6.15.20//NONSGML v1.0//EN
CALSCALE:GREGORIAN
METHOD:PUBLISH
X-WR-CALNAME:CHSV
X-ORIGINAL-URL:https://chesterfieldhistoricalsociety.com
X-WR-CALDESC:Events for CHSV
REFRESH-INTERVAL;VALUE=DURATION:PT1H
X-Robots-Tag:noindex
X-PUBLISHED-TTL:PT1H
BEGIN:VTIMEZONE
TZID:America/New_York
BEGIN:DAYLIGHT
TZOFFSETFROM:-0500
TZOFFSETTO:-0400
TZNAME:EDT
DTSTART:20240310T070000
END:DAYLIGHT
BEGIN:STANDARD
TZOFFSETFROM:-0400
TZOFFSETTO:-0500
TZNAME:EST
DTSTART:20241103T060000
END:STANDARD
BEGIN:DAYLIGHT
TZOFFSETFROM:-0500
TZOFFSETTO:-0400
TZNAME:EDT
DTSTART:20250309T070000
END:DAYLIGHT
BEGIN:STANDARD
TZOFFSETFROM:-0400
TZOFFSETTO:-0500
TZNAME:EST
DTSTART:20251102T060000
END:STANDARD
BEGIN:DAYLIGHT
TZOFFSETFROM:-0500
TZOFFSETTO:-0400
TZNAME:EDT
DTSTART:20260308T070000
END:DAYLIGHT
BEGIN:STANDARD
TZOFFSETFROM:-0400
TZOFFSETTO:-0500
TZNAME:EST
DTSTART:20261101T060000
END:STANDARD
END:VTIMEZONE
BEGIN:VEVENT
DTSTART;TZID=America/New_York:20250719T120000
DTEND;TZID=America/New_York:20250719T130000
DTSTAMP:20260423T033854
CREATED:20250512T200841Z
LAST-MODIFIED:20250512T200841Z
UID:1054-1752926400-1752930000@chesterfieldhistoricalsociety.com
SUMMARY:History of Ice Cream and Ice Cream Social
DESCRIPTION:Celebrate National Ice Cream Month this July with a delectable treat. \nEnjoy making your own sundaes while hearing interesting facts about ice cream. Do you know in what country the earliest evidence of ice cream making was found? Do you know what is the most important ingredient for ice making? These answers and more will be revealed at the event.
URL:https://chesterfieldhistoricalsociety.com/event/history-of-ice-cream-and-ice-cream-social/
LOCATION:Magnolia Grange House Museum\, 10020 Iron Bridge Rd\, Chesterfield\, VA\, 23832\, United States
END:VEVENT
END:VCALENDAR