BEGIN:VCALENDAR
VERSION:2.0
PRODID:-//CHSV - ECPv6.15.20//NONSGML v1.0//EN
CALSCALE:GREGORIAN
METHOD:PUBLISH
X-WR-CALNAME:CHSV
X-ORIGINAL-URL:https://chesterfieldhistoricalsociety.com
X-WR-CALDESC:Events for CHSV
REFRESH-INTERVAL;VALUE=DURATION:PT1H
X-Robots-Tag:noindex
X-PUBLISHED-TTL:PT1H
BEGIN:VTIMEZONE
TZID:America/New_York
BEGIN:DAYLIGHT
TZOFFSETFROM:-0500
TZOFFSETTO:-0400
TZNAME:EDT
DTSTART:20240310T070000
END:DAYLIGHT
BEGIN:STANDARD
TZOFFSETFROM:-0400
TZOFFSETTO:-0500
TZNAME:EST
DTSTART:20241103T060000
END:STANDARD
BEGIN:DAYLIGHT
TZOFFSETFROM:-0500
TZOFFSETTO:-0400
TZNAME:EDT
DTSTART:20250309T070000
END:DAYLIGHT
BEGIN:STANDARD
TZOFFSETFROM:-0400
TZOFFSETTO:-0500
TZNAME:EST
DTSTART:20251102T060000
END:STANDARD
BEGIN:DAYLIGHT
TZOFFSETFROM:-0500
TZOFFSETTO:-0400
TZNAME:EDT
DTSTART:20260308T070000
END:DAYLIGHT
BEGIN:STANDARD
TZOFFSETFROM:-0400
TZOFFSETTO:-0500
TZNAME:EST
DTSTART:20261101T060000
END:STANDARD
END:VTIMEZONE
BEGIN:VEVENT
DTSTART;TZID=America/New_York:20250827T090000
DTEND;TZID=America/New_York:20250827T170000
DTSTAMP:20260423T001121
CREATED:20250801T171529Z
LAST-MODIFIED:20250801T171757Z
UID:1227-1756285200-1756314000@chesterfieldhistoricalsociety.com
SUMMARY:VA250 Mobile Museum
DESCRIPTION:A hands-on\, interactive\, and immersive “museum on wheels\,” the VA250 Mobile Museum Experience titled “Out of Many\, One” is housed in a quad-expandable tractor trailer that is traveling throughout Virginia and beyond. The mobile museum brings key stories of Virginia’s rich history to schools\, museums\, local events\, fairs\, and more\, highlighting every region of the state.
URL:https://chesterfieldhistoricalsociety.com/event/va250-mobile-museum/
LOCATION:Mimms Loop parking lot\, 6731 Mimms Loop\, Chesterfield\, VA\, 23832\, United States
END:VEVENT
END:VCALENDAR