BEGIN:VCALENDAR
VERSION:2.0
PRODID:-//CHSV - ECPv6.15.20//NONSGML v1.0//EN
CALSCALE:GREGORIAN
METHOD:PUBLISH
X-WR-CALNAME:CHSV
X-ORIGINAL-URL:https://chesterfieldhistoricalsociety.com
X-WR-CALDESC:Events for CHSV
REFRESH-INTERVAL;VALUE=DURATION:PT1H
X-Robots-Tag:noindex
X-PUBLISHED-TTL:PT1H
BEGIN:VTIMEZONE
TZID:America/New_York
BEGIN:DAYLIGHT
TZOFFSETFROM:-0500
TZOFFSETTO:-0400
TZNAME:EDT
DTSTART:20240310T070000
END:DAYLIGHT
BEGIN:STANDARD
TZOFFSETFROM:-0400
TZOFFSETTO:-0500
TZNAME:EST
DTSTART:20241103T060000
END:STANDARD
BEGIN:DAYLIGHT
TZOFFSETFROM:-0500
TZOFFSETTO:-0400
TZNAME:EDT
DTSTART:20250309T070000
END:DAYLIGHT
BEGIN:STANDARD
TZOFFSETFROM:-0400
TZOFFSETTO:-0500
TZNAME:EST
DTSTART:20251102T060000
END:STANDARD
BEGIN:DAYLIGHT
TZOFFSETFROM:-0500
TZOFFSETTO:-0400
TZNAME:EDT
DTSTART:20260308T070000
END:DAYLIGHT
BEGIN:STANDARD
TZOFFSETFROM:-0400
TZOFFSETTO:-0500
TZNAME:EST
DTSTART:20261101T060000
END:STANDARD
END:VTIMEZONE
BEGIN:VEVENT
DTSTART;TZID=America/New_York:20250906T120000
DTEND;TZID=America/New_York:20250906T130000
DTSTAMP:20260422T223903
CREATED:20250801T174540Z
LAST-MODIFIED:20250801T174540Z
UID:1241-1757160000-1757163600@chesterfieldhistoricalsociety.com
SUMMARY:The Story of Elizabeth Van Lew
DESCRIPTION:When Virginia secedes from the Union and joins the Confederacy\, Elizabeth Van Lew of Richmond is horrified. She risks everything to support the Union; her social standing\, wealth and even life itself. She forms a powerful spy ring\, known as the Richmond Underground\, and she is credited with giving Union General U.S. Grant the most valuable information about Richmond that he received during the war. Libby McNamee\, author of the newly published book “The Union Spymistress: The Story of Elizabeth Van Lew” will share incites about the life of this interesting historic character.
URL:https://chesterfieldhistoricalsociety.com/event/the-story-of-elizabeth-van-lew/
LOCATION:Magnolia Grange House Museum\, 10020 Iron Bridge Rd\, Chesterfield\, VA\, 23832\, United States
END:VEVENT
END:VCALENDAR