BEGIN:VCALENDAR
VERSION:2.0
PRODID:-//CHSV - ECPv6.15.20//NONSGML v1.0//EN
CALSCALE:GREGORIAN
METHOD:PUBLISH
X-WR-CALNAME:CHSV
X-ORIGINAL-URL:https://chesterfieldhistoricalsociety.com
X-WR-CALDESC:Events for CHSV
REFRESH-INTERVAL;VALUE=DURATION:PT1H
X-Robots-Tag:noindex
X-PUBLISHED-TTL:PT1H
BEGIN:VTIMEZONE
TZID:America/New_York
BEGIN:DAYLIGHT
TZOFFSETFROM:-0500
TZOFFSETTO:-0400
TZNAME:EDT
DTSTART:20240310T070000
END:DAYLIGHT
BEGIN:STANDARD
TZOFFSETFROM:-0400
TZOFFSETTO:-0500
TZNAME:EST
DTSTART:20241103T060000
END:STANDARD
BEGIN:DAYLIGHT
TZOFFSETFROM:-0500
TZOFFSETTO:-0400
TZNAME:EDT
DTSTART:20250309T070000
END:DAYLIGHT
BEGIN:STANDARD
TZOFFSETFROM:-0400
TZOFFSETTO:-0500
TZNAME:EST
DTSTART:20251102T060000
END:STANDARD
BEGIN:DAYLIGHT
TZOFFSETFROM:-0500
TZOFFSETTO:-0400
TZNAME:EDT
DTSTART:20260308T070000
END:DAYLIGHT
BEGIN:STANDARD
TZOFFSETFROM:-0400
TZOFFSETTO:-0500
TZNAME:EST
DTSTART:20261101T060000
END:STANDARD
END:VTIMEZONE
BEGIN:VEVENT
DTSTART;TZID=America/New_York:20250927T110000
DTEND;TZID=America/New_York:20250927T120000
DTSTAMP:20260422T223902
CREATED:20250801T174720Z
LAST-MODIFIED:20250801T174720Z
UID:1243-1758970800-1758974400@chesterfieldhistoricalsociety.com
SUMMARY:Courthouse Green Tour
DESCRIPTION:During an outdoor walking tour of Chesterfield’s Historic Courthouse Green\, learn about the historic buildings and monuments as well as the 210-year-old Nunnally Oak Tree. After the tour\, participants are welcome to further explore the history of Chesterfield County at the County Museum and Old Jail.
URL:https://chesterfieldhistoricalsociety.com/event/courthouse-green-tour-2/
LOCATION:Chesterfield Museum – Lobby\, 6813 Mimms Loop\, Chesterfield\, VA\, 23832\, United States
END:VEVENT
END:VCALENDAR