BEGIN:VCALENDAR
VERSION:2.0
PRODID:-//CHSV - ECPv6.15.20//NONSGML v1.0//EN
CALSCALE:GREGORIAN
METHOD:PUBLISH
X-WR-CALNAME:CHSV
X-ORIGINAL-URL:https://chesterfieldhistoricalsociety.com
X-WR-CALDESC:Events for CHSV
REFRESH-INTERVAL;VALUE=DURATION:PT1H
X-Robots-Tag:noindex
X-PUBLISHED-TTL:PT1H
BEGIN:VTIMEZONE
TZID:America/New_York
BEGIN:DAYLIGHT
TZOFFSETFROM:-0500
TZOFFSETTO:-0400
TZNAME:EDT
DTSTART:20240310T070000
END:DAYLIGHT
BEGIN:STANDARD
TZOFFSETFROM:-0400
TZOFFSETTO:-0500
TZNAME:EST
DTSTART:20241103T060000
END:STANDARD
BEGIN:DAYLIGHT
TZOFFSETFROM:-0500
TZOFFSETTO:-0400
TZNAME:EDT
DTSTART:20250309T070000
END:DAYLIGHT
BEGIN:STANDARD
TZOFFSETFROM:-0400
TZOFFSETTO:-0500
TZNAME:EST
DTSTART:20251102T060000
END:STANDARD
BEGIN:DAYLIGHT
TZOFFSETFROM:-0500
TZOFFSETTO:-0400
TZNAME:EDT
DTSTART:20260308T070000
END:DAYLIGHT
BEGIN:STANDARD
TZOFFSETFROM:-0400
TZOFFSETTO:-0500
TZNAME:EST
DTSTART:20261101T060000
END:STANDARD
END:VTIMEZONE
BEGIN:VEVENT
DTSTART;TZID=America/New_York:20251118T110000
DTEND;TZID=America/New_York:20251118T120000
DTSTAMP:20260422T192804
CREATED:20251113T185812Z
LAST-MODIFIED:20251113T185812Z
UID:1462-1763463600-1763467200@chesterfieldhistoricalsociety.com
SUMMARY:Deputy Belcher - Street Renaming in his honor
DESCRIPTION:Join us for the Street Renaming in honor of Archer Thomas Belcher. Deputy Belcher on January 22\, 1912\, was guarding a work detail when he was brutally attacked by three escaping inmates. Officer Belcher succumbed to his wounds 24 days later. \nWe will be joined by some of his family members for a short ceremony at Deep Creek Middle School\, 17151 Westerleigh Pkwy\, Moseley\, VA. at 11:00 A.M.
URL:https://chesterfieldhistoricalsociety.com/event/deputy-belcher-street-renaming-in-his-honor/
END:VEVENT
END:VCALENDAR