BEGIN:VCALENDAR
VERSION:2.0
PRODID:-//CHSV - ECPv6.15.20//NONSGML v1.0//EN
CALSCALE:GREGORIAN
METHOD:PUBLISH
X-ORIGINAL-URL:https://chesterfieldhistoricalsociety.com
X-WR-CALDESC:Events for CHSV
REFRESH-INTERVAL;VALUE=DURATION:PT1H
X-Robots-Tag:noindex
X-PUBLISHED-TTL:PT1H
BEGIN:VTIMEZONE
TZID:America/New_York
BEGIN:DAYLIGHT
TZOFFSETFROM:-0500
TZOFFSETTO:-0400
TZNAME:EDT
DTSTART:20250309T070000
END:DAYLIGHT
BEGIN:STANDARD
TZOFFSETFROM:-0400
TZOFFSETTO:-0500
TZNAME:EST
DTSTART:20251102T060000
END:STANDARD
BEGIN:DAYLIGHT
TZOFFSETFROM:-0500
TZOFFSETTO:-0400
TZNAME:EDT
DTSTART:20260308T070000
END:DAYLIGHT
BEGIN:STANDARD
TZOFFSETFROM:-0400
TZOFFSETTO:-0500
TZNAME:EST
DTSTART:20261101T060000
END:STANDARD
BEGIN:DAYLIGHT
TZOFFSETFROM:-0500
TZOFFSETTO:-0400
TZNAME:EDT
DTSTART:20270314T070000
END:DAYLIGHT
BEGIN:STANDARD
TZOFFSETFROM:-0400
TZOFFSETTO:-0500
TZNAME:EST
DTSTART:20271107T060000
END:STANDARD
END:VTIMEZONE
BEGIN:VEVENT
DTSTART;TZID=America/New_York:20260110T110000
DTEND;TZID=America/New_York:20260110T120000
DTSTAMP:20260422T162340
CREATED:20251227T173641Z
LAST-MODIFIED:20260107T164539Z
UID:1575-1768042800-1768046400@chesterfieldhistoricalsociety.com
SUMMARY:County Museum: Learning Our History from African American Burial Grounds and Cemeteries
DESCRIPTION:This presentation will cover the historical significance and preservation efforts of African American burial grounds and cemeteries. This topic is important as it sheds light on a crucial aspect of our history and heritage. The speaker will be Audrey M. Ross\, a member of Chesterfield Historical Society of Virginia’s African American History Committee and Cemetery Committee\, and Historian and Cemetery Assistant of the Historic First Baptist Church of Midlothian. \nFree to the public\, though please register via the Parks and Recreation Webpage linked here \n11 am at Chesterfield County Museum \n6813 Mimms Loop\, Chesterfield
URL:https://chesterfieldhistoricalsociety.com/event/county-museum-learning-our-history-from-african-american-burial-grounds-and-cemeteries/
END:VEVENT
END:VCALENDAR