BEGIN:VCALENDAR
VERSION:2.0
PRODID:-//CHSV - ECPv6.15.20//NONSGML v1.0//EN
CALSCALE:GREGORIAN
METHOD:PUBLISH
X-ORIGINAL-URL:https://chesterfieldhistoricalsociety.com
X-WR-CALDESC:Events for CHSV
REFRESH-INTERVAL;VALUE=DURATION:PT1H
X-Robots-Tag:noindex
X-PUBLISHED-TTL:PT1H
BEGIN:VTIMEZONE
TZID:America/New_York
BEGIN:DAYLIGHT
TZOFFSETFROM:-0500
TZOFFSETTO:-0400
TZNAME:EDT
DTSTART:20250309T070000
END:DAYLIGHT
BEGIN:STANDARD
TZOFFSETFROM:-0400
TZOFFSETTO:-0500
TZNAME:EST
DTSTART:20251102T060000
END:STANDARD
BEGIN:DAYLIGHT
TZOFFSETFROM:-0500
TZOFFSETTO:-0400
TZNAME:EDT
DTSTART:20260308T070000
END:DAYLIGHT
BEGIN:STANDARD
TZOFFSETFROM:-0400
TZOFFSETTO:-0500
TZNAME:EST
DTSTART:20261101T060000
END:STANDARD
BEGIN:DAYLIGHT
TZOFFSETFROM:-0500
TZOFFSETTO:-0400
TZNAME:EDT
DTSTART:20270314T070000
END:DAYLIGHT
BEGIN:STANDARD
TZOFFSETFROM:-0400
TZOFFSETTO:-0500
TZNAME:EST
DTSTART:20271107T060000
END:STANDARD
END:VTIMEZONE
BEGIN:VEVENT
DTSTART;TZID=America/New_York:20260124T120000
DTEND;TZID=America/New_York:20260124T130000
DTSTAMP:20260422T162340
CREATED:20251220T181046Z
LAST-MODIFIED:20251223T182539Z
UID:1528-1769256000-1769259600@chesterfieldhistoricalsociety.com
SUMMARY:Magnolia Grange: Genealogy Workshop
DESCRIPTION:Interested in genealogy and tracing your roots to the Revolutionary War and beyond? Come join us as we ring in the 250th year of our nation with a workshop held in our parlor by the Daughters of the Revolution! \nFree to the public\, though please register via the Parks and Recreation Webpage linked here \n12 pm at Magnolia Grange \n10020 Iron Bridge Road \nChesterfield\, 23832 \n 
URL:https://chesterfieldhistoricalsociety.com/event/magnolia-grange-lecture-genealogy-workshop/
END:VEVENT
END:VCALENDAR