BEGIN:VCALENDAR
VERSION:2.0
PRODID:-//CHSV - ECPv6.15.20//NONSGML v1.0//EN
CALSCALE:GREGORIAN
METHOD:PUBLISH
X-ORIGINAL-URL:https://chesterfieldhistoricalsociety.com
X-WR-CALDESC:Events for CHSV
REFRESH-INTERVAL;VALUE=DURATION:PT1H
X-Robots-Tag:noindex
X-PUBLISHED-TTL:PT1H
BEGIN:VTIMEZONE
TZID:America/New_York
BEGIN:DAYLIGHT
TZOFFSETFROM:-0500
TZOFFSETTO:-0400
TZNAME:EDT
DTSTART:20250309T070000
END:DAYLIGHT
BEGIN:STANDARD
TZOFFSETFROM:-0400
TZOFFSETTO:-0500
TZNAME:EST
DTSTART:20251102T060000
END:STANDARD
BEGIN:DAYLIGHT
TZOFFSETFROM:-0500
TZOFFSETTO:-0400
TZNAME:EDT
DTSTART:20260308T070000
END:DAYLIGHT
BEGIN:STANDARD
TZOFFSETFROM:-0400
TZOFFSETTO:-0500
TZNAME:EST
DTSTART:20261101T060000
END:STANDARD
BEGIN:DAYLIGHT
TZOFFSETFROM:-0500
TZOFFSETTO:-0400
TZNAME:EDT
DTSTART:20270314T070000
END:DAYLIGHT
BEGIN:STANDARD
TZOFFSETFROM:-0400
TZOFFSETTO:-0500
TZNAME:EST
DTSTART:20271107T060000
END:STANDARD
END:VTIMEZONE
BEGIN:VEVENT
DTSTART;TZID=America/New_York:20260321T110000
DTEND;TZID=America/New_York:20260321T120000
DTSTAMP:20260422T132313
CREATED:20251227T174215Z
LAST-MODIFIED:20260107T163533Z
UID:1580-1774090800-1774094400@chesterfieldhistoricalsociety.com
SUMMARY:County Museum: Nature’s Civil War: Common Soldiers and the Environment in 1862 Virginia
DESCRIPTION:In 1862 Virginia\, Civil War soldiers endured punishing environmental conditions\, which increased disease and harmed morale. In response to their natural enemies\, they forged informal networks of health care and adopted self-care habits\, from boiling water\, to eradicating insects\, to constructing elaborate shelters. As they fought to regain their health\, they frequently straggled\, testing the limits of army discipline. Through these trials\, Civil War soldiers proved remarkably resilient. The speaker will be Dr K.T. Shively\, Associate Professor of History at Virginia Commonwealth University \nFree to the public\, though please register via the Parks and Recreation Webpage linked here \n11 am at Chesterfield County Museum \n6813 Mimms Loop\, Chesterfield
URL:https://chesterfieldhistoricalsociety.com/event/county-museum-natures-civil-war-common-soldiers-and-the-environment-in-1862-virginia/
END:VEVENT
END:VCALENDAR