BEGIN:VCALENDAR
VERSION:2.0
PRODID:-//CHSV - ECPv6.15.20//NONSGML v1.0//EN
CALSCALE:GREGORIAN
METHOD:PUBLISH
X-WR-CALNAME:CHSV
X-ORIGINAL-URL:https://chesterfieldhistoricalsociety.com
X-WR-CALDESC:Events for CHSV
REFRESH-INTERVAL;VALUE=DURATION:PT1H
X-Robots-Tag:noindex
X-PUBLISHED-TTL:PT1H
BEGIN:VTIMEZONE
TZID:America/New_York
BEGIN:DAYLIGHT
TZOFFSETFROM:-0500
TZOFFSETTO:-0400
TZNAME:EDT
DTSTART:20250309T070000
END:DAYLIGHT
BEGIN:STANDARD
TZOFFSETFROM:-0400
TZOFFSETTO:-0500
TZNAME:EST
DTSTART:20251102T060000
END:STANDARD
BEGIN:DAYLIGHT
TZOFFSETFROM:-0500
TZOFFSETTO:-0400
TZNAME:EDT
DTSTART:20260308T070000
END:DAYLIGHT
BEGIN:STANDARD
TZOFFSETFROM:-0400
TZOFFSETTO:-0500
TZNAME:EST
DTSTART:20261101T060000
END:STANDARD
BEGIN:DAYLIGHT
TZOFFSETFROM:-0500
TZOFFSETTO:-0400
TZNAME:EDT
DTSTART:20270314T070000
END:DAYLIGHT
BEGIN:STANDARD
TZOFFSETFROM:-0400
TZOFFSETTO:-0500
TZNAME:EST
DTSTART:20271107T060000
END:STANDARD
END:VTIMEZONE
BEGIN:VEVENT
DTSTART;TZID=America/New_York:20260502T100000
DTEND;TZID=America/New_York:20260502T160000
DTSTAMP:20260422T114400
CREATED:20260331T161321Z
LAST-MODIFIED:20260331T161321Z
UID:1761-1777716000-1777737600@chesterfieldhistoricalsociety.com
SUMMARY:Eppington Spring Event
DESCRIPTION:Join us for the Eppington Spring Event at the historic Eppington Plantation! \nSaturday\, May 2nd\, 10am-4pm \nFree to the Public \n14201 Eppes Falls Road\, \nChesterfield\, VA \n 
URL:https://chesterfieldhistoricalsociety.com/event/eppington-spring-event/
END:VEVENT
BEGIN:VEVENT
DTSTART;TZID=America/New_York:20260502T130000
DTEND;TZID=America/New_York:20260502T150000
DTSTAMP:20260422T114400
CREATED:20260331T160956Z
LAST-MODIFIED:20260331T165950Z
UID:1759-1777726800-1777734000@chesterfieldhistoricalsociety.com
SUMMARY:May Genealogy Workshop
DESCRIPTION:Genealogy Workshop hosted at Historic Trinity Church \nSaturday\, May 2nd\, 1-3pm \nFree to the Public \n10111 Iron Bridge Road \nChesterfield\, VA
URL:https://chesterfieldhistoricalsociety.com/event/may-genealogy-workshop/
END:VEVENT
END:VCALENDAR