BEGIN:VCALENDAR
VERSION:2.0
PRODID:-//CHSV - ECPv6.15.20//NONSGML v1.0//EN
CALSCALE:GREGORIAN
METHOD:PUBLISH
X-WR-CALNAME:CHSV
X-ORIGINAL-URL:https://chesterfieldhistoricalsociety.com
X-WR-CALDESC:Events for CHSV
REFRESH-INTERVAL;VALUE=DURATION:PT1H
X-Robots-Tag:noindex
X-PUBLISHED-TTL:PT1H
BEGIN:VTIMEZONE
TZID:America/New_York
BEGIN:DAYLIGHT
TZOFFSETFROM:-0500
TZOFFSETTO:-0400
TZNAME:EDT
DTSTART:20250309T070000
END:DAYLIGHT
BEGIN:STANDARD
TZOFFSETFROM:-0400
TZOFFSETTO:-0500
TZNAME:EST
DTSTART:20251102T060000
END:STANDARD
BEGIN:DAYLIGHT
TZOFFSETFROM:-0500
TZOFFSETTO:-0400
TZNAME:EDT
DTSTART:20260308T070000
END:DAYLIGHT
BEGIN:STANDARD
TZOFFSETFROM:-0400
TZOFFSETTO:-0500
TZNAME:EST
DTSTART:20261101T060000
END:STANDARD
BEGIN:DAYLIGHT
TZOFFSETFROM:-0500
TZOFFSETTO:-0400
TZNAME:EDT
DTSTART:20270314T070000
END:DAYLIGHT
BEGIN:STANDARD
TZOFFSETFROM:-0400
TZOFFSETTO:-0500
TZNAME:EST
DTSTART:20271107T060000
END:STANDARD
END:VTIMEZONE
BEGIN:VEVENT
DTSTART;TZID=America/New_York:20260506T130000
DTEND;TZID=America/New_York:20260506T150000
DTSTAMP:20260422T131901
CREATED:20251227T171206Z
LAST-MODIFIED:20260318T152913Z
UID:1568-1778072400-1778079600@chesterfieldhistoricalsociety.com
SUMMARY:RESCHEDULED: Magnolia Grange: Women’s History Month Tea
DESCRIPTION:In Celebration of Women’s History Month\, join us for tea at Magnolia Grange. High tea staples will be provided by the Bakery and Pastry Art students at the Career and Technical Center. Proceeds will be donated to the Daughters of the Revolution 250th Commemorative Brick Project\, which honors those associated with the Chesterfield Camp. Maximum of 30 attendees so make sure you sign up soon! \n$35 dollars for admission\, please register via the Parks and Recreation Webpage linked here \n12 pm at Magnolia Grange \n10020 Iron Bridge Road \nChesterfield\, 23832
URL:https://chesterfieldhistoricalsociety.com/event/magnolia-grange-womens-history-month-tea/
END:VEVENT
END:VCALENDAR