BEGIN:VCALENDAR
VERSION:2.0
PRODID:-//CHSV - ECPv6.15.20//NONSGML v1.0//EN
CALSCALE:GREGORIAN
METHOD:PUBLISH
X-WR-CALNAME:CHSV
X-ORIGINAL-URL:https://chesterfieldhistoricalsociety.com
X-WR-CALDESC:Events for CHSV
REFRESH-INTERVAL;VALUE=DURATION:PT1H
X-Robots-Tag:noindex
X-PUBLISHED-TTL:PT1H
BEGIN:VTIMEZONE
TZID:America/New_York
BEGIN:DAYLIGHT
TZOFFSETFROM:-0500
TZOFFSETTO:-0400
TZNAME:EDT
DTSTART:20250309T070000
END:DAYLIGHT
BEGIN:STANDARD
TZOFFSETFROM:-0400
TZOFFSETTO:-0500
TZNAME:EST
DTSTART:20251102T060000
END:STANDARD
BEGIN:DAYLIGHT
TZOFFSETFROM:-0500
TZOFFSETTO:-0400
TZNAME:EDT
DTSTART:20260308T070000
END:DAYLIGHT
BEGIN:STANDARD
TZOFFSETFROM:-0400
TZOFFSETTO:-0500
TZNAME:EST
DTSTART:20261101T060000
END:STANDARD
BEGIN:DAYLIGHT
TZOFFSETFROM:-0500
TZOFFSETTO:-0400
TZNAME:EDT
DTSTART:20270314T070000
END:DAYLIGHT
BEGIN:STANDARD
TZOFFSETFROM:-0400
TZOFFSETTO:-0500
TZNAME:EST
DTSTART:20271107T060000
END:STANDARD
END:VTIMEZONE
BEGIN:VEVENT
DTSTART;TZID=America/New_York:20260801T110000
DTEND;TZID=America/New_York:20260801T120000
DTSTAMP:20260422T162206
CREATED:20260331T174119Z
LAST-MODIFIED:20260331T174916Z
UID:1783-1785582000-1785585600@chesterfieldhistoricalsociety.com
SUMMARY:Antique Bottles of Chesterfield\, Ettrick\, Hopewell and Petersburg
DESCRIPTION:Anthony Townsend of the Richmond Bottle Club will discuss these local antique Virginia bottles.  This will include sodas\, milks\, beer bottles and drug store bottles.  The public is welcome to bring in their own bottles to learn more about them. \nSaturday\, August 1st\, 11am-12pm \nFREE\, please register through the Parks and Recreation Events page (Link will be here) \nChesterfield County Museum \n6813 Mimms Loop \nChesterfield\, VA
URL:https://chesterfieldhistoricalsociety.com/event/antique-bottles-of-chesterfield-ettrick-hopewell-and-petersburg/
END:VEVENT
END:VCALENDAR