BEGIN:VCALENDAR
VERSION:2.0
PRODID:-//CHSV - ECPv6.15.20//NONSGML v1.0//EN
CALSCALE:GREGORIAN
METHOD:PUBLISH
X-WR-CALNAME:CHSV
X-ORIGINAL-URL:https://chesterfieldhistoricalsociety.com
X-WR-CALDESC:Events for CHSV
REFRESH-INTERVAL;VALUE=DURATION:PT1H
X-Robots-Tag:noindex
X-PUBLISHED-TTL:PT1H
BEGIN:VTIMEZONE
TZID:America/New_York
BEGIN:DAYLIGHT
TZOFFSETFROM:-0500
TZOFFSETTO:-0400
TZNAME:EDT
DTSTART:20240310T070000
END:DAYLIGHT
BEGIN:STANDARD
TZOFFSETFROM:-0400
TZOFFSETTO:-0500
TZNAME:EST
DTSTART:20241103T060000
END:STANDARD
BEGIN:DAYLIGHT
TZOFFSETFROM:-0500
TZOFFSETTO:-0400
TZNAME:EDT
DTSTART:20250309T070000
END:DAYLIGHT
BEGIN:STANDARD
TZOFFSETFROM:-0400
TZOFFSETTO:-0500
TZNAME:EST
DTSTART:20251102T060000
END:STANDARD
BEGIN:DAYLIGHT
TZOFFSETFROM:-0500
TZOFFSETTO:-0400
TZNAME:EDT
DTSTART:20260308T070000
END:DAYLIGHT
BEGIN:STANDARD
TZOFFSETFROM:-0400
TZOFFSETTO:-0500
TZNAME:EST
DTSTART:20261101T060000
END:STANDARD
END:VTIMEZONE
BEGIN:VEVENT
DTSTART;TZID=America/New_York:20250510T110000
DTEND;TZID=America/New_York:20250510T120000
DTSTAMP:20260423T190100
CREATED:20250425T193347Z
LAST-MODIFIED:20250425T193347Z
UID:1022-1746874800-1746878400@chesterfieldhistoricalsociety.com
SUMMARY:The Bermuda Hundred Campaign: The Battle That Reshaped the James River
DESCRIPTION:While the Bermuda Hundred Campaign was a stalemate and a setback in General U.S. Grant’s grand strategy as the new head of all Union forces\, This series of battles left a permanent mark on Chesterfield County and the James River itself. Learn about the campaign’s cast of characters and its lasting effects in this lecture by the Chesterfield Historical Society’s Angela Bullock.
URL:https://chesterfieldhistoricalsociety.com/event/the-bermuda-hundred-campaign-the-battle-that-reshaped-the-james-river/
LOCATION:Chesterfield Museum – Lobby\, 6813 Mimms Loop\, Chesterfield\, VA\, 23832\, United States
CATEGORIES:Saturday Lectures
END:VEVENT
BEGIN:VEVENT
DTSTART;TZID=America/New_York:20250517T120000
DTEND;TZID=America/New_York:20250517T130000
DTSTAMP:20260423T190100
CREATED:20250512T194017Z
LAST-MODIFIED:20250512T194017Z
UID:1040-1747483200-1747486800@chesterfieldhistoricalsociety.com
SUMMARY:Music on the Lawn – “Harken Back String Band”
DESCRIPTION:Step back into the 19th century for some musical fun as the Harken Back String Band performs parlor songs\, hymns and gospel music. The band is an educational ensemble of musicians and singers that perform regularly throughout central Virginia. Bring a lawn chair or blanket for an enjoyable afternoon of hand clapping\, foot stomping\, old-time music.
URL:https://chesterfieldhistoricalsociety.com/event/music-on-the-lawn-harken-back-string-band/
LOCATION:Magnolia Grange House Museum\, 10020 Iron Bridge Rd\, Chesterfield\, VA\, 23832\, United States
CATEGORIES:Saturday Lectures
END:VEVENT
BEGIN:VEVENT
DTSTART;TZID=America/New_York:20250524T110000
DTEND;TZID=America/New_York:20250524T130000
DTSTAMP:20260423T190100
CREATED:20250512T194414Z
LAST-MODIFIED:20250512T194414Z
UID:1044-1748084400-1748091600@chesterfieldhistoricalsociety.com
SUMMARY:Yarn Doll Day
DESCRIPTION:A perfect family activity during the long Memorial Day weekend\, come learn how to make an old-fashioned yarn doll (and take it home!) during this craft workshop. See dolls handmake from corn husks\, corn cobs\, nuts\, pine tags\, wooden spools\, and paper. All ages welcome!
URL:https://chesterfieldhistoricalsociety.com/event/yarn-doll-day/
LOCATION:Chesterfield Museum – Lobby\, 6813 Mimms Loop\, Chesterfield\, VA\, 23832\, United States
CATEGORIES:Saturday Lectures
END:VEVENT
END:VCALENDAR