BEGIN:VCALENDAR
VERSION:2.0
PRODID:-//CHSV - ECPv6.15.20//NONSGML v1.0//EN
CALSCALE:GREGORIAN
METHOD:PUBLISH
X-ORIGINAL-URL:https://chesterfieldhistoricalsociety.com
X-WR-CALDESC:Events for CHSV
REFRESH-INTERVAL;VALUE=DURATION:PT1H
X-Robots-Tag:noindex
X-PUBLISHED-TTL:PT1H
BEGIN:VTIMEZONE
TZID:America/New_York
BEGIN:DAYLIGHT
TZOFFSETFROM:-0500
TZOFFSETTO:-0400
TZNAME:EDT
DTSTART:20250309T070000
END:DAYLIGHT
BEGIN:STANDARD
TZOFFSETFROM:-0400
TZOFFSETTO:-0500
TZNAME:EST
DTSTART:20251102T060000
END:STANDARD
BEGIN:DAYLIGHT
TZOFFSETFROM:-0500
TZOFFSETTO:-0400
TZNAME:EDT
DTSTART:20260308T070000
END:DAYLIGHT
BEGIN:STANDARD
TZOFFSETFROM:-0400
TZOFFSETTO:-0500
TZNAME:EST
DTSTART:20261101T060000
END:STANDARD
BEGIN:DAYLIGHT
TZOFFSETFROM:-0500
TZOFFSETTO:-0400
TZNAME:EDT
DTSTART:20270314T070000
END:DAYLIGHT
BEGIN:STANDARD
TZOFFSETFROM:-0400
TZOFFSETTO:-0500
TZNAME:EST
DTSTART:20271107T060000
END:STANDARD
END:VTIMEZONE
BEGIN:VEVENT
DTSTART;TZID=America/New_York:20260410T190000
DTEND;TZID=America/New_York:20260410T203000
DTSTAMP:20260422T163920
CREATED:20251018T164259Z
LAST-MODIFIED:20260211T171744Z
UID:1420-1775847600-1775853000@chesterfieldhistoricalsociety.com
SUMMARY:RESCHEDULED Winter Lecture Series: Journals of the Holocaust
DESCRIPTION:Join us for a special lecture on journals from the Holocaust with local author Nancy Beasley. Her most notable books are Izzy’s Fire: Finding Humanity in the Holocaust (2005) and The Little Lion (2016). \nCHSV Members FREE\, Non-Members $5 \nBeulah Methodist Church \n6930 Hopkins Road\, \nNorth Chesterfield\, 23234
URL:https://chesterfieldhistoricalsociety.com/event/winter-lecture-series-2/
LOCATION:Beulah United Methodist Church\, 6930 Hopkins Road\, Chesterfield\, VA\, 23234\, United States
CATEGORIES:Winter Lecture Series
END:VEVENT
BEGIN:VEVENT
DTSTART;TZID=America/New_York:20260327T190000
DTEND;TZID=America/New_York:20260327T203000
DTSTAMP:20260422T163920
CREATED:20251018T164728Z
LAST-MODIFIED:20251223T181905Z
UID:1428-1774638000-1774643400@chesterfieldhistoricalsociety.com
SUMMARY:Winter Lecture Series: Liberty or Death Celebrates 250 Years
DESCRIPTION:Celebrate the 250th anniversary of the famous adage “Give me liberty or give me death” with an in-depth analysis and costumed interpretation by Stephen Wilson\, the Executive Director of St. John’s Church Foundation. \nCHSV Members FREE\, Non-members $5 \n7pm at Beulah Methodist Church \n6930 Hopkins Road\, \nNorth Chesterfield\, 23234 \n 
URL:https://chesterfieldhistoricalsociety.com/event/winter-lecture-series-6/
LOCATION:Beulah United Methodist Church\, 6930 Hopkins Road\, Chesterfield\, VA\, 23234\, United States
CATEGORIES:Winter Lecture Series
END:VEVENT
BEGIN:VEVENT
DTSTART;TZID=America/New_York:20260313T190000
DTEND;TZID=America/New_York:20260313T203000
DTSTAMP:20260422T163920
CREATED:20251018T164406Z
LAST-MODIFIED:20251220T184008Z
UID:1422-1773428400-1773433800@chesterfieldhistoricalsociety.com
SUMMARY:Winter Lecture Series: The M1 Garand Rifle
DESCRIPTION:Jerry Netherland\, the President of the Chesterfield Historical Society\, will host a talk titled: “The M1 Garand Rifle: The Story of the Rifle that Won WWII and Those Who Produced It.” \nCHSV Members FREE\, Non-Members $5 \n7pm at Beulah Methodist Church \n6930 Hopkins Road\, \nNorth Chesterfield\, 23234
URL:https://chesterfieldhistoricalsociety.com/event/winter-lecture-series-3/
LOCATION:Beulah United Methodist Church\, 6930 Hopkins Road\, Chesterfield\, VA\, 23234\, United States
CATEGORIES:Winter Lecture Series
END:VEVENT
BEGIN:VEVENT
DTSTART;TZID=America/New_York:20260227T190000
DTEND;TZID=America/New_York:20260227T203000
DTSTAMP:20260422T163920
CREATED:20251018T164447Z
LAST-MODIFIED:20251223T175206Z
UID:1424-1772218800-1772224200@chesterfieldhistoricalsociety.com
SUMMARY:Winter Lecture Series: Martha Washington: The Later Years
DESCRIPTION:Debbie Phillips\, a local historical interpreter\, is exploring the later years of our first First Lady\, Martha Washington. \nCHSV Member FREE\, Non-Members $5 \n7pm at Beulah Methodist Church \n6930 Hopkins Road\, \nNorth Chesterfield\, 23234
URL:https://chesterfieldhistoricalsociety.com/event/winter-lecture-series-4/
LOCATION:Beulah United Methodist Church\, 6930 Hopkins Road\, Chesterfield\, VA\, 23234\, United States
CATEGORIES:Winter Lecture Series
END:VEVENT
BEGIN:VEVENT
DTSTART;TZID=America/New_York:20260116T190000
DTEND;TZID=America/New_York:20260116T203000
DTSTAMP:20260422T163920
CREATED:20251018T163636Z
LAST-MODIFIED:20251220T162150Z
UID:1416-1768590000-1768595400@chesterfieldhistoricalsociety.com
SUMMARY:Winter Lecture Series: Union Spy Mistress
DESCRIPTION:Join us at Beulah Methodist Church to listen to local author Libbie McNamee discuss her novels as well as the historical background on the Union Spy Mistress\,  Elizabeth Van Lew. CHSV Members FREE\, Non-Members $5 \n7pm\, Beulah Methodist Church \n6930 Hopkins Road \nNorth Chesterfield\, 23234
URL:https://chesterfieldhistoricalsociety.com/event/winter-lecture-series/
LOCATION:Beulah United Methodist Church\, 6930 Hopkins Road\, Chesterfield\, VA\, 23234\, United States
CATEGORIES:Winter Lecture Series
END:VEVENT
END:VCALENDAR