BEGIN:VCALENDAR
VERSION:2.0
PRODID:-//CHSV - ECPv6.15.20//NONSGML v1.0//EN
CALSCALE:GREGORIAN
METHOD:PUBLISH
X-ORIGINAL-URL:https://chesterfieldhistoricalsociety.com
X-WR-CALDESC:Events for CHSV
REFRESH-INTERVAL;VALUE=DURATION:PT1H
X-Robots-Tag:noindex
X-PUBLISHED-TTL:PT1H
BEGIN:VTIMEZONE
TZID:America/New_York
BEGIN:DAYLIGHT
TZOFFSETFROM:-0500
TZOFFSETTO:-0400
TZNAME:EDT
DTSTART:20250309T070000
END:DAYLIGHT
BEGIN:STANDARD
TZOFFSETFROM:-0400
TZOFFSETTO:-0500
TZNAME:EST
DTSTART:20251102T060000
END:STANDARD
BEGIN:DAYLIGHT
TZOFFSETFROM:-0500
TZOFFSETTO:-0400
TZNAME:EDT
DTSTART:20260308T070000
END:DAYLIGHT
BEGIN:STANDARD
TZOFFSETFROM:-0400
TZOFFSETTO:-0500
TZNAME:EST
DTSTART:20261101T060000
END:STANDARD
BEGIN:DAYLIGHT
TZOFFSETFROM:-0500
TZOFFSETTO:-0400
TZNAME:EDT
DTSTART:20270314T070000
END:DAYLIGHT
BEGIN:STANDARD
TZOFFSETFROM:-0400
TZOFFSETTO:-0500
TZNAME:EST
DTSTART:20271107T060000
END:STANDARD
END:VTIMEZONE
BEGIN:VEVENT
DTSTART;TZID=America/New_York:20260718T120000
DTEND;TZID=America/New_York:20260718T130000
DTSTAMP:20260422T175028
CREATED:20260331T165036Z
LAST-MODIFIED:20260331T165036Z
UID:1770-1784376000-1784379600@chesterfieldhistoricalsociety.com
SUMMARY:The Bayonet - Evolution from the Revolutionary War to Vietnam
DESCRIPTION:Come join us for an intriguing look at the evolution and development of the rifle bayonet. Real and reproduction bayonets and scabbards will be shown to demonstrate the evolution over the 200-year lifespan. What was the purpose of the bayonet? Who manufactured them? How many were made? Are they collectible? Given by Chesterfield Historical Society Board Member Jerry Netherland (20 ppl max) \nSaturday\, July 18th\, 12-1pm\, Free to the Public\, Please register via Parks and Recreation events page (Link Will Be Here) \nMagnolia Grange \n10020 Iron Bridge Road\nChesterfield\, VA
URL:https://chesterfieldhistoricalsociety.com/event/the-bayonet-evolution-from-the-revolutionary-war-to-vietnam/
END:VEVENT
BEGIN:VEVENT
DTSTART;TZID=America/New_York:20260801T110000
DTEND;TZID=America/New_York:20260801T120000
DTSTAMP:20260422T175028
CREATED:20260331T174119Z
LAST-MODIFIED:20260331T174916Z
UID:1783-1785582000-1785585600@chesterfieldhistoricalsociety.com
SUMMARY:Antique Bottles of Chesterfield\, Ettrick\, Hopewell and Petersburg
DESCRIPTION:Anthony Townsend of the Richmond Bottle Club will discuss these local antique Virginia bottles.  This will include sodas\, milks\, beer bottles and drug store bottles.  The public is welcome to bring in their own bottles to learn more about them. \nSaturday\, August 1st\, 11am-12pm \nFREE\, please register through the Parks and Recreation Events page (Link will be here) \nChesterfield County Museum \n6813 Mimms Loop \nChesterfield\, VA
URL:https://chesterfieldhistoricalsociety.com/event/antique-bottles-of-chesterfield-ettrick-hopewell-and-petersburg/
END:VEVENT
BEGIN:VEVENT
DTSTART;TZID=America/New_York:20260808T120000
DTEND;TZID=America/New_York:20260808T130000
DTSTAMP:20260422T175028
CREATED:20260331T165343Z
LAST-MODIFIED:20260331T165343Z
UID:1773-1786190400-1786194000@chesterfieldhistoricalsociety.com
SUMMARY:The Bermuda 100 Campaign
DESCRIPTION:Join Colonel G. A. Stratton USMC (Ret) as he explores how the Federal’s squandered one of its best opportunities to capture the defenseless city of Richmond and the vulnerable Confederate government in the Spring of 1864. This five-dimensional campaign showcased how Federal and Confederate leaders used psychological warfare\, intelligence / counterintelligence along with traditional calvary\, naval and ground operations ending with the “Bottling-Up” of Major General Benjamin Butler’s Federal Army of the James and the maintaining Richmond in Confederate hands.  (20 ppl max) \nSaturday\, August 8th\, 12-1pm\, Free to the Public\, please sign up at Parks and Recreation Events Page (Link Will Be Here) \nMagnolia Grange\, \n10020 Iron Bridge Road \nChesterfield\, VA
URL:https://chesterfieldhistoricalsociety.com/event/the-bermuda-100-campaign/
END:VEVENT
END:VCALENDAR