BEGIN:VCALENDAR
VERSION:2.0
PRODID:-//CHSV - ECPv6.15.20//NONSGML v1.0//EN
CALSCALE:GREGORIAN
METHOD:PUBLISH
X-WR-CALNAME:CHSV
X-ORIGINAL-URL:https://chesterfieldhistoricalsociety.com
X-WR-CALDESC:Events for CHSV
REFRESH-INTERVAL;VALUE=DURATION:PT1H
X-Robots-Tag:noindex
X-PUBLISHED-TTL:PT1H
BEGIN:VTIMEZONE
TZID:America/New_York
BEGIN:DAYLIGHT
TZOFFSETFROM:-0500
TZOFFSETTO:-0400
TZNAME:EDT
DTSTART:20240310T070000
END:DAYLIGHT
BEGIN:STANDARD
TZOFFSETFROM:-0400
TZOFFSETTO:-0500
TZNAME:EST
DTSTART:20241103T060000
END:STANDARD
BEGIN:DAYLIGHT
TZOFFSETFROM:-0500
TZOFFSETTO:-0400
TZNAME:EDT
DTSTART:20250309T070000
END:DAYLIGHT
BEGIN:STANDARD
TZOFFSETFROM:-0400
TZOFFSETTO:-0500
TZNAME:EST
DTSTART:20251102T060000
END:STANDARD
BEGIN:DAYLIGHT
TZOFFSETFROM:-0500
TZOFFSETTO:-0400
TZNAME:EDT
DTSTART:20260308T070000
END:DAYLIGHT
BEGIN:STANDARD
TZOFFSETFROM:-0400
TZOFFSETTO:-0500
TZNAME:EST
DTSTART:20261101T060000
END:STANDARD
END:VTIMEZONE
BEGIN:VEVENT
DTSTART;TZID=America/New_York:20250422T120000
DTEND;TZID=America/New_York:20250422T130000
DTSTAMP:20260423T035830
CREATED:20250113T011315Z
LAST-MODIFIED:20250113T011315Z
UID:688-1745323200-1745326800@chesterfieldhistoricalsociety.com
SUMMARY:Lunchtime Lecture Series - History of Heirloom Herbs
DESCRIPTION:During this presentation explore the historical uses and folklore of herbs as air fresheners\, insect repellents\, medicinal and culinary uses. Explore the many types of herbs and make an herbal sachet. \nRegister HERE
URL:https://chesterfieldhistoricalsociety.com/event/lunchtime-lecture-series-history-of-heirloom-herbs/
LOCATION:Castlewood Plantation\, 10201 Ironbridge Road\, Chesterfield\, VA\, 23832\, United States
END:VEVENT
BEGIN:VEVENT
DTSTART;TZID=America/New_York:20250418T100000
DTEND;TZID=America/New_York:20250418T120000
DTSTAMP:20260423T035830
CREATED:20250113T010039Z
LAST-MODIFIED:20250113T010039Z
UID:672-1744970400-1744977600@chesterfieldhistoricalsociety.com
SUMMARY:Homeschool History - Geocaching
DESCRIPTION:Learn some of the basics of navigation and how to use a hand-held receiver as you search for clues on a scavenger hunt and look for caches or hidden treasure. Learn how to use a compass\, understand basic uses of topographic maps and how these functions are important. \n\nPlease register in advance for this activity.\nRegister HERE
URL:https://chesterfieldhistoricalsociety.com/event/homeschool-history-geocaching/
LOCATION:Trinity – Parking Lot\, 10111 Iron Bridge Road\, Chesterfield\, VA\, 23832\, United States
END:VEVENT
BEGIN:VEVENT
DTSTART;TZID=America/New_York:20250417T100000
DTEND;TZID=America/New_York:20250417T140000
DTSTAMP:20260423T035830
CREATED:20250113T004209Z
LAST-MODIFIED:20250113T004209Z
UID:649-1744884000-1744898400@chesterfieldhistoricalsociety.com
SUMMARY:Highlights of Midlothian Van Tour
DESCRIPTION:This guided van tour will allow you to experience many of the unique historical sites located within the village of Midlothian. This guided tour will focus on many of the fascinating places of interest that are part of the history of Midlothian. Visit sites that were part of the coal mining history\, learn about French Huguenots\, visit historical churches\, and discover the history behind the Chesterfield railroad. \nRegister HERE
URL:https://chesterfieldhistoricalsociety.com/event/highlights-of-midlothian-van-tour/
LOCATION:Midlothian Mines – Parking Lot\, 13301 North Woolridge Road\, Midlothian\, VA\, 23114\, United States
END:VEVENT
BEGIN:VEVENT
DTSTART;TZID=America/New_York:20250416T100000
DTEND;TZID=America/New_York:20250416T120000
DTSTAMP:20260423T035830
CREATED:20250113T004356Z
LAST-MODIFIED:20250113T004356Z
UID:651-1744797600-1744804800@chesterfieldhistoricalsociety.com
SUMMARY:Historic Architecture Tour
DESCRIPTION:This guided tour of the Historic Courthouse Complex will showcase numerous historic buildings on the Courthouse Green. Discover the unique architecture of the 1828 Clerk’s Office\, the 1917 Historic Courthouse\, 1817 Castlewood\, and 1822 Magnolia Grange. Learn about the Historic Landmark Status associated with these structures and the individuality for which each that makes them unique to Chesterfield. \nRegister HERE
URL:https://chesterfieldhistoricalsociety.com/event/historic-architecture-tour/
LOCATION:Chesterfield Museum – Lobby\, 6813 Mimms Loop\, Chesterfield\, VA\, 23832\, United States
END:VEVENT
BEGIN:VEVENT
DTSTART;TZID=America/New_York:20250411T050000
DTEND;TZID=America/New_York:20250411T070000
DTSTAMP:20260423T035830
CREATED:20250113T005532Z
LAST-MODIFIED:20250113T005532Z
UID:666-1744347600-1744354800@chesterfieldhistoricalsociety.com
SUMMARY:Homeschool History - Chesterfield Coal
DESCRIPTION:Did you know that Midlothian was the site of the first commercial coal mines in North America? Take a guided tour and discover what coal mining was all about. Participate in a scale hardness test and learn how to classify rocks. This activity addresses geology and coal mining. \n\nPlease register in advance for this activity.\nRegister HERE
URL:https://chesterfieldhistoricalsociety.com/event/homeschool-history-chesterfield-coal/
LOCATION:Midlothian Mines – Parking Lot\, 13301 North Woolridge Road\, Midlothian\, VA\, 23114\, United States
END:VEVENT
BEGIN:VEVENT
DTSTART;TZID=America/New_York:20250410T100000
DTEND;TZID=America/New_York:20250410T140000
DTSTAMP:20260423T035830
CREATED:20250113T004933Z
LAST-MODIFIED:20250113T004933Z
UID:660-1744279200-1744293600@chesterfieldhistoricalsociety.com
SUMMARY:Historic Route 1 Van Tour
DESCRIPTION:This guided van tour will highlight the history of many of the sites once popularized along the first and oldest highway system in the United States. Discover the history of Halfway House\, learn about the electric trolley line that once existed\, visit the first Wayside Park in Virginia and see the oldest stone bridge\, visit Swift Creek Mill\, documented as one of the oldest mills in the country and explore Violet Bank Museum and see one of the oldest Magnolia trees. \nRegister HERE
URL:https://chesterfieldhistoricalsociety.com/event/historic-route-1-van-tour/
LOCATION:Bensley Rec – Parking Lot\, 2900 Drewry's Bluff Road\, North Chesterfield\, VA\, 23237\, United States
END:VEVENT
BEGIN:VEVENT
DTSTART;TZID=America/New_York:20250409T050000
DTEND;TZID=America/New_York:20250409T060000
DTSTAMP:20260423T035830
CREATED:20250113T003200Z
LAST-MODIFIED:20250113T003200Z
UID:637-1744174800-1744178400@chesterfieldhistoricalsociety.com
SUMMARY:Falling Creek Ironworks Tour
DESCRIPTION:Discover the site of the first iron furnace in the New World and explore the industrial history that evolved. Learn about the Virginia Company of London’s desire to exploit the vast resources\, Archibald Cary’s forge and later grist mill that existed. Take a tour of the site and learn the impact of the industrial achievements. \nRegister HERE
URL:https://chesterfieldhistoricalsociety.com/event/falling-creek-ironworks-tour/
LOCATION:Falling Creek Iron – Parking Lot\, 2530-A Marina Drive\, North Chesterfield\, VA\, 23234\, United States
END:VEVENT
BEGIN:VEVENT
DTSTART;TZID=America/New_York:20250408T070000
DTEND;TZID=America/New_York:20250408T080000
DTSTAMP:20260423T035830
CREATED:20250113T011433Z
LAST-MODIFIED:20250113T011433Z
UID:690-1744095600-1744099200@chesterfieldhistoricalsociety.com
SUMMARY:Lunchtime Lecture Series - Origin of Plant Names
DESCRIPTION:During this presentation participants will learn the stories behind the origins of common plant names and learn about the history of scientific names of various species of plants. \nRegister HERE
URL:https://chesterfieldhistoricalsociety.com/event/lunchtime-lecture-series-origin-of-plant-names/
LOCATION:Castlewood Plantation\, 10201 Ironbridge Road\, Chesterfield\, VA\, 23832\, United States
END:VEVENT
BEGIN:VEVENT
DTSTART;TZID=America/New_York:20250405T200000
DTEND;TZID=America/New_York:20250405T220000
DTSTAMP:20260423T035830
CREATED:20250113T013037Z
LAST-MODIFIED:20250113T013037Z
UID:710-1743883200-1743890400@chesterfieldhistoricalsociety.com
SUMMARY:Stargazing
DESCRIPTION:Join the Richmond Astronomical Society as they explore the night sky in search of star constellations\, planets and other objects in the night sky. Explore the cosmos with telescopes. \nRegister HERE
URL:https://chesterfieldhistoricalsociety.com/event/stargazing/
LOCATION:Eppington – Parking Lot\, 14201 Eppes Falls Road\, Chesterfield\, VA\, 23838\, United States
END:VEVENT
BEGIN:VEVENT
DTSTART;TZID=America/New_York:20250405T100000
DTEND;TZID=America/New_York:20250405T110000
DTSTAMP:20260423T035830
CREATED:20250113T013347Z
LAST-MODIFIED:20250113T013347Z
UID:714-1743847200-1743850800@chesterfieldhistoricalsociety.com
SUMMARY:Tour of Eppington Plantation
DESCRIPTION:Experience what plantation life was like in the 1700’s during a tour of Eppington Plantation\, built in 1768 by Thomas Jefferson’s brother-in-law\, Francis Eppes\, VI. The house features agricultural displays depicting farm life. Tour the house and grounds and learn about colonial life during the 18th century. \nRegister HERE
URL:https://chesterfieldhistoricalsociety.com/event/tour-of-eppington-plantation/
LOCATION:Eppington – Parking Lot\, 14201 Eppes Falls Road\, Chesterfield\, VA\, 23838\, United States
END:VEVENT
BEGIN:VEVENT
DTSTART;TZID=America/New_York:20250405T080000
DTEND;TZID=America/New_York:20250405T100000
DTSTAMP:20260423T035830
CREATED:20250113T002926Z
LAST-MODIFIED:20250113T002926Z
UID:633-1743840000-1743847200@chesterfieldhistoricalsociety.com
SUMMARY:Eppington Geocache
DESCRIPTION:Explore the grounds of one of the oldest plantation homes in Chesterfield County. View the home where Thomas Jefferson visited on numerous occasions and discover the history as you explore the grounds searching for caches using a handheld GPS receiver while participating on a scavenger hunt. \nReservations HERE
URL:https://chesterfieldhistoricalsociety.com/event/eppington-geocache/
LOCATION:Eppington – Parking Lot\, 14201 Eppes Falls Road\, Chesterfield\, VA\, 23838\, United States
END:VEVENT
BEGIN:VEVENT
DTSTART;TZID=America/New_York:20250405T070000
DTEND;TZID=America/New_York:20250405T080000
DTSTAMP:20260423T035830
CREATED:20250113T011604Z
LAST-MODIFIED:20250113T011604Z
UID:692-1743836400-1743840000@chesterfieldhistoricalsociety.com
SUMMARY:Medicine through the Ages Part Three: Modern Medicine
DESCRIPTION:For many centuries\, man has practiced the art and science of treating and preventing disease and injury\, sometimes with great success or epic failure.\nJoin Louisa Mitchie for a PowerPoint program to learn about medical practices of the 20th century. Find out which curatives from this time frame have become common practice or perhaps malpractice. \nRegister HERE
URL:https://chesterfieldhistoricalsociety.com/event/medicine-through-the-ages-part-three-modern-medicine/
LOCATION:Magnolia Grange House Museum\, 10020 Iron Bridge Rd\, Chesterfield\, VA\, 23832\, United States
END:VEVENT
BEGIN:VEVENT
DTSTART;TZID=America/New_York:20250404T050000
DTEND;TZID=America/New_York:20250404T110000
DTSTAMP:20260423T035830
CREATED:20250113T012306Z
LAST-MODIFIED:20250113T012306Z
UID:700-1743742800-1743764400@chesterfieldhistoricalsociety.com
SUMMARY:Scout Merit Badge Workshop - Archaeology
DESCRIPTION:This workshop is designed for scouts looking to complete the requirements for this merit badge. \n\nThis day long workshop will address all aspects of the archaeological process including site surveys\, excavation and artifact repair. Conducted by a certified merit badge counselor with the Heart of Virginia Council. Scouts need to bring lunch and drink for this workshop. \n\nPlease register in advance for this activity.\nRegister HERE
URL:https://chesterfieldhistoricalsociety.com/event/scout-merit-badge-workshop-archaeology/
LOCATION:Trinity – Parking Lot\, 10111 Iron Bridge Road\, Chesterfield\, VA\, 23832\, United States
END:VEVENT
BEGIN:VEVENT
DTSTART;TZID=America/New_York:20250403T100000
DTEND;TZID=America/New_York:20250403T120000
DTSTAMP:20260423T035830
CREATED:20250113T012744Z
LAST-MODIFIED:20250113T012744Z
UID:706-1743674400-1743681600@chesterfieldhistoricalsociety.com
SUMMARY:Scout Merit Badge Workshop - Citizenship in the World
DESCRIPTION:This program is for scouts looking to fulfill their merit badge requirements addressing rights\, duties and citizenship around the world.\n\nLearn about international law\, world trade\, how governments function\, foreign relations\, and forms of government.\n\nPlease register in advance for this activity.\nOur merit badge workshops are conducted by a merit badge counselor certified with the Heart of Virginia Council.\nRegister HERE
URL:https://chesterfieldhistoricalsociety.com/event/scout-merit-badge-workshop-citizenship-in-the-world/
LOCATION:Castlewood Plantation\, 10201 Ironbridge Road\, Chesterfield\, VA\, 23832\, United States
END:VEVENT
BEGIN:VEVENT
DTSTART;TZID=America/New_York:20250402T100000
DTEND;TZID=America/New_York:20250402T120000
DTSTAMP:20260423T035830
CREATED:20250113T012615Z
LAST-MODIFIED:20250113T012615Z
UID:704-1743588000-1743595200@chesterfieldhistoricalsociety.com
SUMMARY:Scout Merit Badge Workshop - Citizenship in the Nation
DESCRIPTION:This workshop helps scouts to understand their rights\, liberties and freedoms as a citizen by discussing important historical documents\, learning the branches of government and examining important historical speeches.\n\n\nOur merit badge workshops are conducted by a merit badge counselor certified with the Heart of Virginia Council.\n\n\nPlease register in advance for this activity.\nRegister HERE
URL:https://chesterfieldhistoricalsociety.com/event/scout-merit-badge-workshop-citizenship-in-the-nation/
LOCATION:Castlewood Plantation\, 10201 Ironbridge Road\, Chesterfield\, VA\, 23832\, United States
END:VEVENT
BEGIN:VEVENT
DTSTART;TZID=America/New_York:20250401T050000
DTEND;TZID=America/New_York:20250401T070000
DTSTAMP:20260423T035830
CREATED:20250113T012436Z
LAST-MODIFIED:20250113T012436Z
UID:702-1743483600-1743490800@chesterfieldhistoricalsociety.com
SUMMARY:Scout Merit Badge Workshop - Citizenship in the Community
DESCRIPTION:This program is for scouts looking to fulfill their merit badge requirements addressing rights\, liberties and cultural heritage.\n\nOur merit badge workshops are conducted by a merit badge counselor certified with the Heart of Virginia Council.\n\n\nPlease register in advance for this activity.\nRegister HERE
URL:https://chesterfieldhistoricalsociety.com/event/scout-merit-badge-workshop-citizenship-in-the-community/
LOCATION:Castlewood Plantation\, 10201 Ironbridge Road\, Chesterfield\, VA\, 23832\, United States
END:VEVENT
BEGIN:VEVENT
DTSTART;TZID=America/New_York:20250331T050000
DTEND;TZID=America/New_York:20250331T070000
DTSTAMP:20260423T035830
CREATED:20250113T012137Z
LAST-MODIFIED:20250113T012137Z
UID:698-1743397200-1743404400@chesterfieldhistoricalsociety.com
SUMMARY:Scout Merit Badge Workshop - American Heritage
DESCRIPTION:This program is for scouts looking to fulfill their merit badge requirements addressing history and cultural heritage.\n\nOur merit badge workshops are conducted by a merit badge counselor certified with the Heart of Virginia Council.\n\n\nPlease register in advance for this activity.\nRegister HERE
URL:https://chesterfieldhistoricalsociety.com/event/scout-merit-badge-workshop-american-heritage/
LOCATION:Castlewood Plantation\, 10201 Ironbridge Road\, Chesterfield\, VA\, 23832\, United States
END:VEVENT
BEGIN:VEVENT
DTSTART;TZID=America/New_York:20250329T130000
DTEND;TZID=America/New_York:20250329T150000
DTSTAMP:20260423T035830
CREATED:20250113T011958Z
LAST-MODIFIED:20250113T011958Z
UID:696-1743253200-1743260400@chesterfieldhistoricalsociety.com
SUMMARY:Midlothian Mines Geocache
DESCRIPTION:Visit the site of one of the first commercial coal mines in North America. View the ruins of the Grove Shaft and learn about the coal mining history as you search for caches while conducting a scavenger hunt utilizing handheld GPS receivers. \nRegister HERE
URL:https://chesterfieldhistoricalsociety.com/event/midlothian-mines-geocache/
LOCATION:Midlothian Mines – Parking Lot\, 13301 North Woolridge Road\, Midlothian\, VA\, 23114\, United States
END:VEVENT
BEGIN:VEVENT
DTSTART;TZID=America/New_York:20250329T100000
DTEND;TZID=America/New_York:20250329T120000
DTSTAMP:20260423T035830
CREATED:20250113T013524Z
LAST-MODIFIED:20250113T013524Z
UID:716-1743242400-1743249600@chesterfieldhistoricalsociety.com
SUMMARY:Tour of Midlothian Mines Park
DESCRIPTION:Take a guided tour and learn more about one of the first commercial coal mine operations in North America. Learn about one of the earliest railroads\, the need for transportation improvements\, the impact that coal mining had on the region in the 1700’s and 1800’s\, and the concept of deep mining that was utilized. View the remains of the Grove Shaft and a reproduction of a headstock that once existed at the site. \nRegister HERE
URL:https://chesterfieldhistoricalsociety.com/event/tour-of-midlothian-mines-park/
LOCATION:Midlothian Mines – Parking Lot\, 13301 North Woolridge Road\, Midlothian\, VA\, 23114\, United States
END:VEVENT
BEGIN:VEVENT
DTSTART;TZID=America/New_York:20250322T100000
DTEND;TZID=America/New_York:20250322T170000
DTSTAMP:20260423T035830
CREATED:20250113T010517Z
LAST-MODIFIED:20250113T010517Z
UID:678-1742637600-1742662800@chesterfieldhistoricalsociety.com
SUMMARY:John Berkeley's Falling Creek Iron Works 1621-1622
DESCRIPTION:Henricus Historical Park will host a multi-faceted historical event illuminating the creation and destruction of the first iron industry in English Virginia- the Falling Creek Ironworks of 1621. There will be living history demonstrations presenting the everyday life of ironworkers from the Virginia Company of London. Interpreters will demonstrate how various sawyers\, carpenters\, masons\, ironworkers and blacksmiths all contributed to establishing the first iron furnace in the English New World. \nExperience what life was like for the original men and women of the settlement\, the skills they performed and the relationship that existed between the English and Powhatan people on the eve of March 22\, 1622. On that day\, native warriors led by Chief Opechancanough launched an unexpected military offensive against all the English settlements including Falling Creek Ironworks. \nThere will also be guided tours from Henricus Park to Falling Creek Ironworks Park where visitors will have a chance to encounter details on the original industry\, learn about the archaeological evidence recovered from the site and learn about the legacy of events that occurred there in the early colonial period. \nRegister HERE
URL:https://chesterfieldhistoricalsociety.com/event/john-berkeleys-falling-creek-iron-works-1621-1622/
LOCATION:Henricus – English Village\, 251 Henricus Park Road\, Chester\, VA\, 23831\, United States
END:VEVENT
BEGIN:VEVENT
DTSTART;TZID=America/New_York:20250322T060000
DTEND;TZID=America/New_York:20250322T070000
DTSTAMP:20260423T035830
CREATED:20250113T010208Z
LAST-MODIFIED:20250113T010208Z
UID:674-1742623200-1742626800@chesterfieldhistoricalsociety.com
SUMMARY:Jailbreaks in Chesterfield County
DESCRIPTION:Chesterfield County has had many jailbreaks during the 19th and 20th century. Some were crafty and devious\, others blunt and violent\, but no two were quite the same. Learn all about the interesting history of jail escapes in this lecture by the Chesterfield Historical Society of Virginia’s Angela Bullock. \nRegister HERE
URL:https://chesterfieldhistoricalsociety.com/event/jailbreaks-in-chesterfield-county/
LOCATION:Chesterfield Museum – Lobby\, 6813 Mimms Loop\, Chesterfield\, VA\, 23832\, United States
END:VEVENT
BEGIN:VEVENT
DTSTART;TZID=America/New_York:20250321T180000
DTEND;TZID=America/New_York:20250321T200000
DTSTAMP:20260423T035830
CREATED:20250106T234856Z
LAST-MODIFIED:20250226T220704Z
UID:546-1742580000-1742587200@chesterfieldhistoricalsociety.com
SUMMARY:CHSV Winter Lecture Series: “History Lives! In the Halls of a Local High School
DESCRIPTION:James Thompson\nHistory Teacher\, Thomas Dale High School \nMr. Thompson will share how he brings history to life for the students who attend Thomas Dale High\, the oldest Chesterfield County high school. \nAdmission is free for Historical Society members and $5 for non-members. Contact information: \nEmail: admin@chesterfieldhistory.com \nPhone: (804) 796-7121
URL:https://chesterfieldhistoricalsociety.com/event/history-lives-in-the-halls-of-a-local-high-school/
LOCATION:Beulah Recreation Center\, 6901 Hopkins Road\, Chesterfield\, VA\, 23234\, United States
END:VEVENT
BEGIN:VEVENT
DTSTART;TZID=America/New_York:20250320T100000
DTEND;TZID=America/New_York:20250320T120000
DTSTAMP:20260423T035830
CREATED:20250113T004626Z
LAST-MODIFIED:20250113T004626Z
UID:655-1742464800-1742472000@chesterfieldhistoricalsociety.com
SUMMARY:Historic Bon Air Driving Tour
DESCRIPTION:This driving tour will focus on the unique Victorian history of Bon Air. Learn about how the town evolved as a resort retreat for residents from Richmond to escape the city. View historically preserved Victorian homes and learn about the many activities that evolved at the resort year round to entertain visitors. Discover the history behind the Bon Air Hotel\, Hazen Library\, the Bon Air train station and much more. \nRegister HERE
URL:https://chesterfieldhistoricalsociety.com/event/historic-bon-air-driving-tour/
LOCATION:Bon Air Baptist – Parking Lot\, 2531 Buford Road\, North Chesterfield\, VA\, 23235\, United States
END:VEVENT
BEGIN:VEVENT
DTSTART;TZID=America/New_York:20250315T120000
DTEND;TZID=America/New_York:20250315T130000
DTSTAMP:20260423T035830
CREATED:20250113T001533Z
LAST-MODIFIED:20250113T002234Z
UID:620-1742040000-1742043600@chesterfieldhistoricalsociety.com
SUMMARY:Abigail Adams and Dolley Madison: For Love & Money
DESCRIPTION:How did Abigail and Dolley handle money\, intense challenges with their loved ones\, and the economic impact on their lives amid the social forces and economic constraints in effect during revolutionary times? Their issues and choices as women\, mothers\, and wives are striking in their contrasts and yet relatable to today’s issues women continue to face. Author Scarlett Heinbuch will discuss her research and give insight into their lives of these interesting women. \nRegister HERE
URL:https://chesterfieldhistoricalsociety.com/event/abigail-adams-and-dolley-madison-for-love-money/
LOCATION:Magnolia Grange House Museum\, 10020 Iron Bridge Rd\, Chesterfield\, VA\, 23832\, United States
END:VEVENT
BEGIN:VEVENT
DTSTART;TZID=America/New_York:20250310T173000
DTEND;TZID=America/New_York:20250310T193000
DTSTAMP:20260423T035830
CREATED:20250227T024250Z
LAST-MODIFIED:20250226T220618Z
UID:847-1741627800-1741635000@chesterfieldhistoricalsociety.com
SUMMARY:CHSV Regular Board Meeting
DESCRIPTION:
URL:https://chesterfieldhistoricalsociety.com/event/chsv-regular-board-meeting/
LOCATION:Trinity Church Building\, 10111 Iron Bridge Road\, Chesterfield\, VA\, 23832\, United States
END:VEVENT
BEGIN:VEVENT
DTSTART;TZID=America/New_York:20250307T180000
DTEND;TZID=America/New_York:20250307T200000
DTSTAMP:20260423T035831
CREATED:20250106T234659Z
LAST-MODIFIED:20250226T220734Z
UID:544-1741370400-1741377600@chesterfieldhistoricalsociety.com
SUMMARY:CHSV Winter Lecture Series: “Historic Women of Virginia
DESCRIPTION:Martha Atkinson\nCurator\, Magnolia Grange House and Museum \nMarch is Women’s History Month and Ms. Atkinson will share vibrant stories of notable Virginia women and how they influenced and shaped our communities. \nAdmission is free for Historical Society members and $5 for non-members. Contact information: \nEmail: admin@chesterfieldhistory.com \nPhone: (804) 796-7121
URL:https://chesterfieldhistoricalsociety.com/event/historic-women-of-virginia/
LOCATION:Beulah Recreation Center\, 6901 Hopkins Road\, Chesterfield\, VA\, 23234\, United States
ATTACH;FMTTYPE=image/jpeg:https://chesterfieldhistoricalsociety.com/wp-content/uploads/2025/02/CHSV-March-7-Lecture_Martha-Atkinson2.jpg
END:VEVENT
BEGIN:VEVENT
DTSTART;TZID=America/New_York:20250307T100000
DTEND;TZID=America/New_York:20250307T120000
DTSTAMP:20260423T035831
CREATED:20250113T005731Z
LAST-MODIFIED:20250113T005731Z
UID:668-1741341600-1741348800@chesterfieldhistoricalsociety.com
SUMMARY:Homeschool History - Discovering Chesterfield's Past
DESCRIPTION:This program addresses life in rural Chesterfield long ago. Visit a replica of an early 20th century General Store and imagine life in a bygone era. Take a tour of the historic Courthouse Green and learn about the training of colonial soldiers and the fight for religious freedom that occurred on the site.\n\n\nPlease register in advance for this activity.\nRegister HERE
URL:https://chesterfieldhistoricalsociety.com/event/homeschool-history-discovering-chesterfields-past/
LOCATION:Chesterfield Museum – Lobby\, 6813 Mimms Loop\, Chesterfield\, VA\, 23832\, United States
END:VEVENT
BEGIN:VEVENT
DTSTART;TZID=America/New_York:20250306T100000
DTEND;TZID=America/New_York:20250306T140000
DTSTAMP:20260423T035831
CREATED:20250113T005325Z
LAST-MODIFIED:20250113T005325Z
UID:664-1741255200-1741269600@chesterfieldhistoricalsociety.com
SUMMARY:Homeschool Day at Henricus Historical Park
DESCRIPTION:Experience a structured four-hour program designed especially for home school families featuring hands-on activities\, demonstrations\, and crafts at a living history museum. \n\nVisit Henricus.org/education/homeschool-programs for registration. The same activities will be offered on both March 6 and 7. Please select your preferred date when registering. Space is limited. Registration is required by March 5.\n\nCost: $17 per child and $10 per accompanying adult;\nHenricus members: $11 per child and $7 per accompanying adult.
URL:https://chesterfieldhistoricalsociety.com/event/homeschool-day-at-henricus-historical-park/
LOCATION:Henricus – Parking Lot\, 251 Henricus Park Road\, Chesterfield\, VA\, 23831\, United States
END:VEVENT
BEGIN:VEVENT
DTSTART;TZID=America/New_York:20250306T100000
DTEND;TZID=America/New_York:20250306T140000
DTSTAMP:20260423T035831
CREATED:20250113T003513Z
LAST-MODIFIED:20250113T003513Z
UID:641-1741255200-1741269600@chesterfieldhistoricalsociety.com
SUMMARY:Giants of Industry Van Tour
DESCRIPTION:This guided van tour will focus on some of the unique industrial achievements in the county. Visit the site of the earliest iron furnace in the English New World at Falling Creek Ironworks\, tour the site of the earliest commercial coal mines in North America at Midlothian Mines and uncover the secret of Ettrick and Matoaca by exploring the history of some of the largest textile mills. \nRegister HERE
URL:https://chesterfieldhistoricalsociety.com/event/giants-of-industry-van-tour/
LOCATION:Castlewood Plantation\, 10201 Ironbridge Road\, Chesterfield\, VA\, 23832\, United States
END:VEVENT
BEGIN:VEVENT
DTSTART;TZID=America/New_York:20250301T120000
DTEND;TZID=America/New_York:20250301T130000
DTSTAMP:20260423T035831
CREATED:20250113T005111Z
LAST-MODIFIED:20250113T005111Z
UID:662-1740830400-1740834000@chesterfieldhistoricalsociety.com
SUMMARY:Historic Women of Central Virginia
DESCRIPTION:Do you know the captivating stories of Jane Minor\, Mary Marshall Tabb Bolling\, and Elizabeth Keckley? These intelligent and brave women were able to garner their freedom and break social norms in order to be successful in their endeavors at a time when women were deemed to be second class citizens. This power-point presentation by Martha Atkinson will celebrate the accomplishments of six Central Virginia women. Find out how these women overcame their circumstances to become notable historic personages. \nRegister HERE
URL:https://chesterfieldhistoricalsociety.com/event/historic-women-of-central-virginia/
LOCATION:Magnolia Grange House Museum\, 10020 Iron Bridge Rd\, Chesterfield\, VA\, 23832\, United States
END:VEVENT
END:VCALENDAR