BEGIN:VCALENDAR
VERSION:2.0
PRODID:-//CHSV - ECPv6.15.20//NONSGML v1.0//EN
CALSCALE:GREGORIAN
METHOD:PUBLISH
X-WR-CALNAME:CHSV
X-ORIGINAL-URL:https://chesterfieldhistoricalsociety.com
X-WR-CALDESC:Events for CHSV
REFRESH-INTERVAL;VALUE=DURATION:PT1H
X-Robots-Tag:noindex
X-PUBLISHED-TTL:PT1H
BEGIN:VTIMEZONE
TZID:America/New_York
BEGIN:DAYLIGHT
TZOFFSETFROM:-0500
TZOFFSETTO:-0400
TZNAME:EDT
DTSTART:20240310T070000
END:DAYLIGHT
BEGIN:STANDARD
TZOFFSETFROM:-0400
TZOFFSETTO:-0500
TZNAME:EST
DTSTART:20241103T060000
END:STANDARD
BEGIN:DAYLIGHT
TZOFFSETFROM:-0500
TZOFFSETTO:-0400
TZNAME:EDT
DTSTART:20250309T070000
END:DAYLIGHT
BEGIN:STANDARD
TZOFFSETFROM:-0400
TZOFFSETTO:-0500
TZNAME:EST
DTSTART:20251102T060000
END:STANDARD
BEGIN:DAYLIGHT
TZOFFSETFROM:-0500
TZOFFSETTO:-0400
TZNAME:EDT
DTSTART:20260308T070000
END:DAYLIGHT
BEGIN:STANDARD
TZOFFSETFROM:-0400
TZOFFSETTO:-0500
TZNAME:EST
DTSTART:20261101T060000
END:STANDARD
END:VTIMEZONE
BEGIN:VEVENT
DTSTART;TZID=America/New_York:20250201T120000
DTEND;TZID=America/New_York:20250201T130000
DTSTAMP:20260423T103540
CREATED:20250113T013819Z
LAST-MODIFIED:20250113T013819Z
UID:720-1738411200-1738414800@chesterfieldhistoricalsociety.com
SUMMARY:Working Over Fire: African American Foodways in the 19th Century
DESCRIPTION:Whether made from scraps or produced by other means\, African Americans transformed basic ingredients into flavorful dishes that influenced 19th century cuisine and beyond. Wisteria Perry\, Associate Curator at the Mariners Museum in Newport News\, Virginia will share her knowledge and give insight into this interesting aspect of history. \nRegister HERE
URL:https://chesterfieldhistoricalsociety.com/event/working-over-fire-african-american-foodways-in-the-19th-century/
LOCATION:Magnolia Grange House Museum\, 10020 Iron Bridge Rd\, Chesterfield\, VA\, 23832\, United States
END:VEVENT
BEGIN:VEVENT
DTSTART;TZID=America/New_York:20250207T130000
DTEND;TZID=America/New_York:20250207T150000
DTSTAMP:20260423T103540
CREATED:20250106T234049Z
LAST-MODIFIED:20250222T210625Z
UID:534-1738933200-1738940400@chesterfieldhistoricalsociety.com
SUMMARY:CHSV Winter Lecture Series: “Martha & George:  A Love Story
DESCRIPTION:Debbie Phillips\nAuthor and Historic Interpreter \nFebruary is the month of love and Ms. Phillip will portray Martha Washington and share the deep and lasting love story between Martha and George Washington. \nAdmission is free for Historical Society members and $5 for non-members. Contact information: \nEmail: admin@chesterfieldhistory.com \nPhone: (804) 796-7121
URL:https://chesterfieldhistoricalsociety.com/event/martha-george-a-love-story/
LOCATION:Beulah Recreation Center\, 6901 Hopkins Road\, Chesterfield\, VA\, 23234\, United States
END:VEVENT
BEGIN:VEVENT
DTSTART;TZID=America/New_York:20250211T120000
DTEND;TZID=America/New_York:20250211T130000
DTSTAMP:20260423T103540
CREATED:20250113T010844Z
LAST-MODIFIED:20250113T010844Z
UID:682-1739275200-1739278800@chesterfieldhistoricalsociety.com
SUMMARY:Lunchtime Lecture Series - Historic Courthouse Green
DESCRIPTION:This presentation will discuss the history of the Courthouse Green from the Baptist Preacher Trials and establishment of a colonial militia encampment to the historic structures on the greenspace. \nRegister HERE
URL:https://chesterfieldhistoricalsociety.com/event/lunchtime-lecture-series-historic-courthouse-green/
LOCATION:Castlewood Plantation\, 10201 Ironbridge Road\, Chesterfield\, VA\, 23832\, United States
END:VEVENT
BEGIN:VEVENT
DTSTART;TZID=America/New_York:20250215T120000
DTEND;TZID=America/New_York:20250215T130000
DTSTAMP:20260423T103540
CREATED:20250113T011740Z
LAST-MODIFIED:20250113T011740Z
UID:694-1739620800-1739624400@chesterfieldhistoricalsociety.com
SUMMARY:Midlothian Coal Mine History: Slavery\, Tragedy & Human Spirit
DESCRIPTION:Writing a novel on the history of coal mining in Midlothian\, Virginia means deep research. Author Scarlett Heinbuch will discuss some of her findings: The humanity of the people who worked the mines\, the impact on enslaved people\, the human tragedy of mining disasters\, the complex social relationships below the ground and above it and the legacy of the mines in modern day Midlothian. \nRegister HERE
URL:https://chesterfieldhistoricalsociety.com/event/midlothian-coal-mine-history-slavery-tragedy-human-spirit/
LOCATION:Magnolia Grange House Museum\, 10020 Iron Bridge Rd\, Chesterfield\, VA\, 23832\, United States
END:VEVENT
BEGIN:VEVENT
DTSTART;TZID=America/New_York:20250218T120000
DTEND;TZID=America/New_York:20250218T130000
DTSTAMP:20260423T103540
CREATED:20250113T011144Z
LAST-MODIFIED:20250113T011144Z
UID:686-1739880000-1739883600@chesterfieldhistoricalsociety.com
SUMMARY:Lunchtime Lecture Series - History of Falling Creek
DESCRIPTION:During this presentation participants will learn about the history and impact of the first iron furnace in the New World and the beginning of heavy industry. Learn about the developments of iron production during the 17th and 18th centuries. \nRegister HERE
URL:https://chesterfieldhistoricalsociety.com/event/lunchtime-lecture-series-history-of-falling-creek/
LOCATION:Castlewood Plantation\, 10201 Ironbridge Road\, Chesterfield\, VA\, 23832\, United States
END:VEVENT
BEGIN:VEVENT
DTSTART;TZID=America/New_York:20250219T130000
DTEND;TZID=America/New_York:20250219T150000
DTSTAMP:20260423T103540
CREATED:20250113T002443Z
LAST-MODIFIED:20250113T002443Z
UID:627-1739970000-1739977200@chesterfieldhistoricalsociety.com
SUMMARY:Celebrate the Presidents Tea
DESCRIPTION:Before becoming a museum\, Magnolia Grange was a place of residence for several families for over 150 years. During that time\, thirty-four Presidents of the United States were elected to office. Join us for an afternoon of tea of celebration where sweets and savories prepared by the Bakery and Pastry Arts students at the Career and Technical Center will be offered and English tea will be served. Fun facts about some of our more interesting past presidents will be shared. \nRegister HERE
URL:https://chesterfieldhistoricalsociety.com/event/celebrate-the-presidents-tea/
LOCATION:Magnolia Grange House Museum\, 10020 Iron Bridge Rd\, Chesterfield\, VA\, 23832\, United States
END:VEVENT
BEGIN:VEVENT
DTSTART;TZID=America/New_York:20250221T130000
DTEND;TZID=America/New_York:20250221T150000
DTSTAMP:20260423T103540
CREATED:20250106T234459Z
LAST-MODIFIED:20250222T210654Z
UID:541-1740142800-1740150000@chesterfieldhistoricalsociety.com
SUMMARY:CHSV Winter Lecture Series: “Chesterfield County Public Schools in the Era of Segregation
DESCRIPTION:Charlotte Banks Wood\nRetired Teacher\, Chesterfield County Schools \nFebruary is Black History Month and Mrs. Wood\, will share her compelling stories of life in that tumultuous era. The lecture will be accompanied by a special exhibit curated by the African\nAmerican History Committee of the Chesterfield Historical Society of Virginia. \nAdmission is free for Historical Society members and $5 for non-members. Contact information: \nEmail: admin@chesterfieldhistory.com \nPhone: (804) 796-7121
URL:https://chesterfieldhistoricalsociety.com/event/chesterfield-county-public-schools-in-the-era-of-segregation/
LOCATION:Stonebridge Recreation Center\, 230 Karl Linn Drive\, Chesterfield\, VA\, 23225\, United States
END:VEVENT
BEGIN:VEVENT
DTSTART;TZID=America/New_York:20250222T110000
DTEND;TZID=America/New_York:20250222T120000
DTSTAMP:20260423T103540
CREATED:20250113T002201Z
LAST-MODIFIED:20250113T002201Z
UID:625-1740222000-1740225600@chesterfieldhistoricalsociety.com
SUMMARY:Addressing Complacency in Black History Month
DESCRIPTION:This lecture presented by Chesterfield Historical Society’s African American History Committee\, will focus on youth in our communities. Efforts made by past and present community leaders to promote the well-being of our youth will be highlighted\, as we examine possible solutions to current challenges our youth face. \nRegister HERE
URL:https://chesterfieldhistoricalsociety.com/event/addressing-complacency-in-black-history-month/
LOCATION:Chesterfield Museum – Lobby\, 6813 Mimms Loop\, Chesterfield\, VA\, 23832\, United States
END:VEVENT
BEGIN:VEVENT
DTSTART;TZID=America/New_York:20250225T070000
DTEND;TZID=America/New_York:20250225T080000
DTSTAMP:20260423T103540
CREATED:20250113T011008Z
LAST-MODIFIED:20250113T011008Z
UID:684-1740466800-1740470400@chesterfieldhistoricalsociety.com
SUMMARY:Lunchtime Lecture Series - Historic Trees
DESCRIPTION:Learn the stories surrounding some of Chesterfield County’s most notable trees. Discover the back story of unusual species of trees and learn about some of the oldest trees such as the Nunnally Oak and the Cucumber Magnolia tree at Violet Bank. \nRegister HERE
URL:https://chesterfieldhistoricalsociety.com/event/lunchtime-lecture-series-historic-trees/
LOCATION:Castlewood Plantation\, 10201 Ironbridge Road\, Chesterfield\, VA\, 23832\, United States
END:VEVENT
END:VCALENDAR