BEGIN:VCALENDAR
VERSION:2.0
PRODID:-//CHSV - ECPv6.15.20//NONSGML v1.0//EN
CALSCALE:GREGORIAN
METHOD:PUBLISH
X-ORIGINAL-URL:https://chesterfieldhistoricalsociety.com
X-WR-CALDESC:Events for CHSV
REFRESH-INTERVAL;VALUE=DURATION:PT1H
X-Robots-Tag:noindex
X-PUBLISHED-TTL:PT1H
BEGIN:VTIMEZONE
TZID:America/New_York
BEGIN:DAYLIGHT
TZOFFSETFROM:-0500
TZOFFSETTO:-0400
TZNAME:EDT
DTSTART:20240310T070000
END:DAYLIGHT
BEGIN:STANDARD
TZOFFSETFROM:-0400
TZOFFSETTO:-0500
TZNAME:EST
DTSTART:20241103T060000
END:STANDARD
BEGIN:DAYLIGHT
TZOFFSETFROM:-0500
TZOFFSETTO:-0400
TZNAME:EDT
DTSTART:20250309T070000
END:DAYLIGHT
BEGIN:STANDARD
TZOFFSETFROM:-0400
TZOFFSETTO:-0500
TZNAME:EST
DTSTART:20251102T060000
END:STANDARD
BEGIN:DAYLIGHT
TZOFFSETFROM:-0500
TZOFFSETTO:-0400
TZNAME:EDT
DTSTART:20260308T070000
END:DAYLIGHT
BEGIN:STANDARD
TZOFFSETFROM:-0400
TZOFFSETTO:-0500
TZNAME:EST
DTSTART:20261101T060000
END:STANDARD
END:VTIMEZONE
BEGIN:VEVENT
DTSTART;TZID=America/New_York:20250809T110000
DTEND;TZID=America/New_York:20250809T120000
DTSTAMP:20260422T223943
CREATED:20250512T202642Z
LAST-MODIFIED:20250512T202642Z
UID:1068-1754737200-1754740800@chesterfieldhistoricalsociety.com
SUMMARY:Museum Collection Day
DESCRIPTION:With so many interesting artifacts spanning Chesterfield’s 276-year history in the County Museum’s collection\, lots of artifacts have to be properly catalogued\, accessioned and stored in a climate-controlled environment. Come see fascinating items in the collection from the “vault” of the museum and learn from pieces of history.
URL:https://chesterfieldhistoricalsociety.com/event/museum-collection-day/
LOCATION:Chesterfield Museum – Lobby\, 6813 Mimms Loop\, Chesterfield\, VA\, 23832\, United States
CATEGORIES:Saturday Lectures
END:VEVENT
BEGIN:VEVENT
DTSTART;TZID=America/New_York:20250809T120000
DTEND;TZID=America/New_York:20250809T130000
DTSTAMP:20260422T223943
CREATED:20250512T201030Z
LAST-MODIFIED:20250512T201030Z
UID:1056-1754740800-1754744400@chesterfieldhistoricalsociety.com
SUMMARY:A History of the Village of Bon Air and the Christian Church
DESCRIPTION:The village of Bon Air was built as a resort community in the late 19th century for the well-to-do citizens of Richmond. This presentation will cover the development of the resort\, the changes that have occurred since the story of Bon Air Christian Church. Chesterfield resident Sara Reese will conduct the presentation.
URL:https://chesterfieldhistoricalsociety.com/event/a-history-of-the-village-of-bon-air-and-the-christian-church/
CATEGORIES:Saturday Lectures
END:VEVENT
BEGIN:VEVENT
DTSTART;TZID=America/New_York:20250822T170000
DTEND;TZID=America/New_York:20250822T220000
DTSTAMP:20260422T223943
CREATED:20250801T163009Z
LAST-MODIFIED:20250801T170327Z
UID:1224-1755882000-1755900000@chesterfieldhistoricalsociety.com
SUMMARY:CHSV at County Fair
DESCRIPTION:The Society will be at the opening night of the Chesterfield County Fair. Come visit us at the Arts and Crafts building from 5pm to 10pm.
URL:https://chesterfieldhistoricalsociety.com/event/chsv-at-county-fair/
LOCATION:Chesterfield County Fair Grounds\, 10300 Courthouse Rd\, CHESTERFIELD\, VA\, 23832\, United States
END:VEVENT
BEGIN:VEVENT
DTSTART;TZID=America/New_York:20250823T110000
DTEND;TZID=America/New_York:20250823T120000
DTSTAMP:20260422T223943
CREATED:20250512T202819Z
LAST-MODIFIED:20250512T202819Z
UID:1070-1755946800-1755950400@chesterfieldhistoricalsociety.com
SUMMARY:Rationing in WW2: Everyday Changes and Challenges
DESCRIPTION:Presented by the Chesterfield Historical Society’s Henry Coalter\, this lecture will cover the ways that the second World War affected the everyday lives of Virginians in small and big ways\, including the clever workarounds found by some citizens and the odd moves like the issuing of paper license plates.
URL:https://chesterfieldhistoricalsociety.com/event/rationing-in-ww2-everyday-changes-and-challenges/
LOCATION:Chesterfield Museum – Lobby\, 6813 Mimms Loop\, Chesterfield\, VA\, 23832\, United States
CATEGORIES:Saturday Lectures
END:VEVENT
BEGIN:VEVENT
DTSTART;TZID=America/New_York:20250823T120000
DTEND;TZID=America/New_York:20250823T130000
DTSTAMP:20260422T223943
CREATED:20250512T201222Z
LAST-MODIFIED:20250512T201222Z
UID:1058-1755950400-1755954000@chesterfieldhistoricalsociety.com
SUMMARY:Symbols and Sentiment of Blandford Cemetery Part Three
DESCRIPTION:Historic Blandford Cemetery\, located in Petersburg\, Virginia\, is home to over three hundred years of history. Much of that history is preserved in the symbols\, sentiment\, statues\, and sculptures featured throughout the grounds. Presented by Martha Atkinson\, this third power-point program in the series will explore the ironwork throughout the cemetery and the Memorial Hill section of the burial grounds.
URL:https://chesterfieldhistoricalsociety.com/event/symbols-and-sentiment-of-blandford-cemetery-part-three/
LOCATION:Magnolia Grange House Museum\, 10020 Iron Bridge Rd\, Chesterfield\, VA\, 23832\, United States
CATEGORIES:Saturday Lectures
END:VEVENT
BEGIN:VEVENT
DTSTART;TZID=America/New_York:20250827T090000
DTEND;TZID=America/New_York:20250827T170000
DTSTAMP:20260422T223943
CREATED:20250801T171529Z
LAST-MODIFIED:20250801T171757Z
UID:1227-1756285200-1756314000@chesterfieldhistoricalsociety.com
SUMMARY:VA250 Mobile Museum
DESCRIPTION:A hands-on\, interactive\, and immersive “museum on wheels\,” the VA250 Mobile Museum Experience titled “Out of Many\, One” is housed in a quad-expandable tractor trailer that is traveling throughout Virginia and beyond. The mobile museum brings key stories of Virginia’s rich history to schools\, museums\, local events\, fairs\, and more\, highlighting every region of the state.
URL:https://chesterfieldhistoricalsociety.com/event/va250-mobile-museum/
LOCATION:Mimms Loop parking lot\, 6731 Mimms Loop\, Chesterfield\, VA\, 23832\, United States
END:VEVENT
BEGIN:VEVENT
DTSTART;TZID=America/New_York:20250828T090000
DTEND;TZID=America/New_York:20250828T170000
DTSTAMP:20260422T223943
CREATED:20250801T172302Z
LAST-MODIFIED:20250801T172302Z
UID:1232-1756371600-1756400400@chesterfieldhistoricalsociety.com
SUMMARY:VA250 Mobile Museum
DESCRIPTION:A hands-on\, interactive\, and immersive “museum on wheels\,” the VA250 Mobile Museum Experience titled “Out of Many\, One” is housed in a quad-expandable tractor trailer that is traveling throughout Virginia and beyond. The mobile museum brings key stories of Virginia’s rich history to schools\, museums\, local events\, fairs\, and more\, highlighting every region of the state.
URL:https://chesterfieldhistoricalsociety.com/event/va250-mobile-museum-2/
LOCATION:Mimms Loop parking lot\, 6731 Mimms Loop\, Chesterfield\, VA\, 23832\, United States
END:VEVENT
BEGIN:VEVENT
DTSTART;TZID=America/New_York:20250829T090000
DTEND;TZID=America/New_York:20250829T170000
DTSTAMP:20260422T223943
CREATED:20250801T172457Z
LAST-MODIFIED:20250801T172457Z
UID:1234-1756458000-1756486800@chesterfieldhistoricalsociety.com
SUMMARY:VA250 Mobile Museum
DESCRIPTION:A hands-on\, interactive\, and immersive “museum on wheels\,” the VA250 Mobile Museum Experience titled “Out of Many\, One” is housed in a quad-expandable tractor trailer that is traveling throughout Virginia and beyond. The mobile museum brings key stories of Virginia’s rich history to schools\, museums\, local events\, fairs\, and more\, highlighting every region of the state.
URL:https://chesterfieldhistoricalsociety.com/event/va250-mobile-museum-3/
LOCATION:Mimms Loop parking lot\, 6731 Mimms Loop\, Chesterfield\, VA\, 23832\, United States
END:VEVENT
BEGIN:VEVENT
DTSTART;TZID=America/New_York:20250830T090000
DTEND;TZID=America/New_York:20250830T170000
DTSTAMP:20260422T223943
CREATED:20250801T172610Z
LAST-MODIFIED:20250801T172610Z
UID:1236-1756544400-1756573200@chesterfieldhistoricalsociety.com
SUMMARY:VA250 Mobile Museum
DESCRIPTION:A hands-on\, interactive\, and immersive “museum on wheels\,” the VA250 Mobile Museum Experience titled “Out of Many\, One” is housed in a quad-expandable tractor trailer that is traveling throughout Virginia and beyond. The mobile museum brings key stories of Virginia’s rich history to schools\, museums\, local events\, fairs\, and more\, highlighting every region of the state.
URL:https://chesterfieldhistoricalsociety.com/event/va250-mobile-museum-4/
LOCATION:Mimms Loop parking lot\, 6731 Mimms Loop\, Chesterfield\, VA\, 23832\, United States
END:VEVENT
BEGIN:VEVENT
DTSTART;TZID=America/New_York:20250830T180000
DTEND;TZID=America/New_York:20250831T000000
DTSTAMP:20260422T223943
CREATED:20250801T183059Z
LAST-MODIFIED:20250801T183059Z
UID:1256-1756576800-1756598400@chesterfieldhistoricalsociety.com
SUMMARY:FLUMERI PROMOTIONS PRESENTS: Magnolia Grange
DESCRIPTION:IS MAGNOLIA GRANGE HAUNTED? \nAccording to local legend and numerous firsthand accounts\, the answer is a chilling…..YES! Paranormal investigators\, mediums\, guests\, and staff have all reported eerie happenings within the home. Witnesses frequently describe the apparition of a Victorian-era woman on the second-floor stair landing. Some have even mistaken her for a historical reenactor-only to discover she wasn’t part of the event! One visiting medium identified the spirit of a man in a black suit in the parlor\, believed to be William Winfree himself\, who met an untimely and violent death in Richmond in the 1840s. \n\n\nVISIT MAGNOLIA GRANGE HOUSE MUSEUM \nDISCOVER THE PAST \nENCOUNTER THE UNEXPLAINED \n\n\n\n\nEVENT INCLUDES: \n\nParanormal Investigation\nIf weather permits\, outdoor investigation as well\nSnacks & Drinks\nA historical overview of Magnolia Grange\nIf time permits\, present data collected during the event\nproceeds go to The Chesterfield Historical Society
URL:https://chesterfieldhistoricalsociety.com/event/flumeri-promotions-presents-magnolia-grange/
LOCATION:Magnolia Grange House Museum\, 10020 Iron Bridge Rd\, Chesterfield\, VA\, 23832\, United States
END:VEVENT
END:VCALENDAR